BEGIN:VCALENDAR
VERSION:2.0
PRODID:-//TSV Destedt - ECPv6.15.20//NONSGML v1.0//EN
CALSCALE:GREGORIAN
METHOD:PUBLISH
X-WR-CALNAME:TSV Destedt
X-ORIGINAL-URL:https://www.tsv-destedt.de
X-WR-CALDESC:Veranstaltungen für TSV Destedt
REFRESH-INTERVAL;VALUE=DURATION:PT1H
X-Robots-Tag:noindex
X-PUBLISHED-TTL:PT1H
BEGIN:VTIMEZONE
TZID:Europe/Berlin
BEGIN:DAYLIGHT
TZOFFSETFROM:+0100
TZOFFSETTO:+0200
TZNAME:CEST
DTSTART:20250330T010000
END:DAYLIGHT
BEGIN:STANDARD
TZOFFSETFROM:+0200
TZOFFSETTO:+0100
TZNAME:CET
DTSTART:20251026T010000
END:STANDARD
BEGIN:DAYLIGHT
TZOFFSETFROM:+0100
TZOFFSETTO:+0200
TZNAME:CEST
DTSTART:20260329T010000
END:DAYLIGHT
BEGIN:STANDARD
TZOFFSETFROM:+0200
TZOFFSETTO:+0100
TZNAME:CET
DTSTART:20261025T010000
END:STANDARD
BEGIN:DAYLIGHT
TZOFFSETFROM:+0100
TZOFFSETTO:+0200
TZNAME:CEST
DTSTART:20270328T010000
END:DAYLIGHT
BEGIN:STANDARD
TZOFFSETFROM:+0200
TZOFFSETTO:+0100
TZNAME:CET
DTSTART:20271031T010000
END:STANDARD
END:VTIMEZONE
BEGIN:VEVENT
DTSTART;TZID=Europe/Berlin:20260427T181500
DTEND;TZID=Europe/Berlin:20260427T200000
DTSTAMP:20260422T235045
CREATED:20251212T074801Z
LAST-MODIFIED:20251212T074946Z
UID:10009222-1777313700-1777320000@www.tsv-destedt.de
SUMMARY:Volleyball Jugend Training
DESCRIPTION:
URL:https://www.tsv-destedt.de/event/volleyball-jugend-training-2/2026-04-27/
LOCATION:Sporthalle Destedt\, Ohestraße 1\, Cremlingen\, Nieder#\, 38162\, Germany
CATEGORIES:Volleyball
ATTACH;FMTTYPE=image/jpeg:https://www.tsv-destedt.de/wp-content/uploads/2025/01/ball-1930192_640_8aiz.jpg
ORGANIZER;CN="TSV Destedt":MAILTO:info@tsv-destedt.de
END:VEVENT
BEGIN:VEVENT
DTSTART;TZID=Europe/Berlin:20260504T181500
DTEND;TZID=Europe/Berlin:20260504T200000
DTSTAMP:20260422T235045
CREATED:20251212T074801Z
LAST-MODIFIED:20251212T074946Z
UID:10009223-1777918500-1777924800@www.tsv-destedt.de
SUMMARY:Volleyball Jugend Training
DESCRIPTION:
URL:https://www.tsv-destedt.de/event/volleyball-jugend-training-2/2026-05-04/
LOCATION:Sporthalle Destedt\, Ohestraße 1\, Cremlingen\, Nieder#\, 38162\, Germany
CATEGORIES:Volleyball
ATTACH;FMTTYPE=image/jpeg:https://www.tsv-destedt.de/wp-content/uploads/2025/01/ball-1930192_640_8aiz.jpg
ORGANIZER;CN="TSV Destedt":MAILTO:info@tsv-destedt.de
END:VEVENT
BEGIN:VEVENT
DTSTART;TZID=Europe/Berlin:20260511T181500
DTEND;TZID=Europe/Berlin:20260511T200000
DTSTAMP:20260422T235045
CREATED:20251212T074801Z
LAST-MODIFIED:20251212T074946Z
UID:10009224-1778523300-1778529600@www.tsv-destedt.de
SUMMARY:Volleyball Jugend Training
DESCRIPTION:
URL:https://www.tsv-destedt.de/event/volleyball-jugend-training-2/2026-05-11/
LOCATION:Sporthalle Destedt\, Ohestraße 1\, Cremlingen\, Nieder#\, 38162\, Germany
CATEGORIES:Volleyball
ATTACH;FMTTYPE=image/jpeg:https://www.tsv-destedt.de/wp-content/uploads/2025/01/ball-1930192_640_8aiz.jpg
ORGANIZER;CN="TSV Destedt":MAILTO:info@tsv-destedt.de
END:VEVENT
BEGIN:VEVENT
DTSTART;TZID=Europe/Berlin:20260518T181500
DTEND;TZID=Europe/Berlin:20260518T200000
DTSTAMP:20260422T235045
CREATED:20251212T074801Z
LAST-MODIFIED:20251212T074946Z
UID:10009225-1779128100-1779134400@www.tsv-destedt.de
SUMMARY:Volleyball Jugend Training
DESCRIPTION:
URL:https://www.tsv-destedt.de/event/volleyball-jugend-training-2/2026-05-18/
LOCATION:Sporthalle Destedt\, Ohestraße 1\, Cremlingen\, Nieder#\, 38162\, Germany
CATEGORIES:Volleyball
ATTACH;FMTTYPE=image/jpeg:https://www.tsv-destedt.de/wp-content/uploads/2025/01/ball-1930192_640_8aiz.jpg
ORGANIZER;CN="TSV Destedt":MAILTO:info@tsv-destedt.de
END:VEVENT
BEGIN:VEVENT
DTSTART;TZID=Europe/Berlin:20260525T181500
DTEND;TZID=Europe/Berlin:20260525T200000
DTSTAMP:20260422T235045
CREATED:20251212T074801Z
LAST-MODIFIED:20251212T074946Z
UID:10009226-1779732900-1779739200@www.tsv-destedt.de
SUMMARY:Volleyball Jugend Training
DESCRIPTION:
URL:https://www.tsv-destedt.de/event/volleyball-jugend-training-2/2026-05-25/
LOCATION:Sporthalle Destedt\, Ohestraße 1\, Cremlingen\, Nieder#\, 38162\, Germany
CATEGORIES:Volleyball
ATTACH;FMTTYPE=image/jpeg:https://www.tsv-destedt.de/wp-content/uploads/2025/01/ball-1930192_640_8aiz.jpg
ORGANIZER;CN="TSV Destedt":MAILTO:info@tsv-destedt.de
END:VEVENT
BEGIN:VEVENT
DTSTART;TZID=Europe/Berlin:20260601T181500
DTEND;TZID=Europe/Berlin:20260601T200000
DTSTAMP:20260422T235046
CREATED:20251212T074801Z
LAST-MODIFIED:20251212T074946Z
UID:10009227-1780337700-1780344000@www.tsv-destedt.de
SUMMARY:Volleyball Jugend Training
DESCRIPTION:
URL:https://www.tsv-destedt.de/event/volleyball-jugend-training-2/2026-06-01/
LOCATION:Sporthalle Destedt\, Ohestraße 1\, Cremlingen\, Nieder#\, 38162\, Germany
CATEGORIES:Volleyball
ATTACH;FMTTYPE=image/jpeg:https://www.tsv-destedt.de/wp-content/uploads/2025/01/ball-1930192_640_8aiz.jpg
ORGANIZER;CN="TSV Destedt":MAILTO:info@tsv-destedt.de
END:VEVENT
BEGIN:VEVENT
DTSTART;TZID=Europe/Berlin:20260608T181500
DTEND;TZID=Europe/Berlin:20260608T200000
DTSTAMP:20260422T235046
CREATED:20251212T074801Z
LAST-MODIFIED:20251212T074946Z
UID:10009228-1780942500-1780948800@www.tsv-destedt.de
SUMMARY:Volleyball Jugend Training
DESCRIPTION:
URL:https://www.tsv-destedt.de/event/volleyball-jugend-training-2/2026-06-08/
LOCATION:Sporthalle Destedt\, Ohestraße 1\, Cremlingen\, Nieder#\, 38162\, Germany
CATEGORIES:Volleyball
ATTACH;FMTTYPE=image/jpeg:https://www.tsv-destedt.de/wp-content/uploads/2025/01/ball-1930192_640_8aiz.jpg
ORGANIZER;CN="TSV Destedt":MAILTO:info@tsv-destedt.de
END:VEVENT
BEGIN:VEVENT
DTSTART;TZID=Europe/Berlin:20260615T181500
DTEND;TZID=Europe/Berlin:20260615T200000
DTSTAMP:20260422T235046
CREATED:20251212T074801Z
LAST-MODIFIED:20251212T074946Z
UID:10009229-1781547300-1781553600@www.tsv-destedt.de
SUMMARY:Volleyball Jugend Training
DESCRIPTION:
URL:https://www.tsv-destedt.de/event/volleyball-jugend-training-2/2026-06-15/
LOCATION:Sporthalle Destedt\, Ohestraße 1\, Cremlingen\, Nieder#\, 38162\, Germany
CATEGORIES:Volleyball
ATTACH;FMTTYPE=image/jpeg:https://www.tsv-destedt.de/wp-content/uploads/2025/01/ball-1930192_640_8aiz.jpg
ORGANIZER;CN="TSV Destedt":MAILTO:info@tsv-destedt.de
END:VEVENT
BEGIN:VEVENT
DTSTART;TZID=Europe/Berlin:20260622T181500
DTEND;TZID=Europe/Berlin:20260622T200000
DTSTAMP:20260422T235046
CREATED:20251212T074801Z
LAST-MODIFIED:20251212T074946Z
UID:10009230-1782152100-1782158400@www.tsv-destedt.de
SUMMARY:Volleyball Jugend Training
DESCRIPTION:
URL:https://www.tsv-destedt.de/event/volleyball-jugend-training-2/2026-06-22/
LOCATION:Sporthalle Destedt\, Ohestraße 1\, Cremlingen\, Nieder#\, 38162\, Germany
CATEGORIES:Volleyball
ATTACH;FMTTYPE=image/jpeg:https://www.tsv-destedt.de/wp-content/uploads/2025/01/ball-1930192_640_8aiz.jpg
ORGANIZER;CN="TSV Destedt":MAILTO:info@tsv-destedt.de
END:VEVENT
BEGIN:VEVENT
DTSTART;TZID=Europe/Berlin:20260629T181500
DTEND;TZID=Europe/Berlin:20260629T200000
DTSTAMP:20260422T235046
CREATED:20251212T074801Z
LAST-MODIFIED:20251212T074946Z
UID:10009231-1782756900-1782763200@www.tsv-destedt.de
SUMMARY:Volleyball Jugend Training
DESCRIPTION:
URL:https://www.tsv-destedt.de/event/volleyball-jugend-training-2/2026-06-29/
LOCATION:Sporthalle Destedt\, Ohestraße 1\, Cremlingen\, Nieder#\, 38162\, Germany
CATEGORIES:Volleyball
ATTACH;FMTTYPE=image/jpeg:https://www.tsv-destedt.de/wp-content/uploads/2025/01/ball-1930192_640_8aiz.jpg
ORGANIZER;CN="TSV Destedt":MAILTO:info@tsv-destedt.de
END:VEVENT
BEGIN:VEVENT
DTSTART;TZID=Europe/Berlin:20260706T181500
DTEND;TZID=Europe/Berlin:20260706T200000
DTSTAMP:20260422T235046
CREATED:20251212T074801Z
LAST-MODIFIED:20251212T074946Z
UID:10009232-1783361700-1783368000@www.tsv-destedt.de
SUMMARY:Volleyball Jugend Training
DESCRIPTION:
URL:https://www.tsv-destedt.de/event/volleyball-jugend-training-2/2026-07-06/
LOCATION:Sporthalle Destedt\, Ohestraße 1\, Cremlingen\, Nieder#\, 38162\, Germany
CATEGORIES:Volleyball
ATTACH;FMTTYPE=image/jpeg:https://www.tsv-destedt.de/wp-content/uploads/2025/01/ball-1930192_640_8aiz.jpg
ORGANIZER;CN="TSV Destedt":MAILTO:info@tsv-destedt.de
END:VEVENT
BEGIN:VEVENT
DTSTART;TZID=Europe/Berlin:20260713T181500
DTEND;TZID=Europe/Berlin:20260713T200000
DTSTAMP:20260422T235046
CREATED:20251212T074801Z
LAST-MODIFIED:20251212T074946Z
UID:10009233-1783966500-1783972800@www.tsv-destedt.de
SUMMARY:Volleyball Jugend Training
DESCRIPTION:
URL:https://www.tsv-destedt.de/event/volleyball-jugend-training-2/2026-07-13/
LOCATION:Sporthalle Destedt\, Ohestraße 1\, Cremlingen\, Nieder#\, 38162\, Germany
CATEGORIES:Volleyball
ATTACH;FMTTYPE=image/jpeg:https://www.tsv-destedt.de/wp-content/uploads/2025/01/ball-1930192_640_8aiz.jpg
ORGANIZER;CN="TSV Destedt":MAILTO:info@tsv-destedt.de
END:VEVENT
BEGIN:VEVENT
DTSTART;TZID=Europe/Berlin:20260720T181500
DTEND;TZID=Europe/Berlin:20260720T200000
DTSTAMP:20260422T235046
CREATED:20251212T074801Z
LAST-MODIFIED:20251212T074946Z
UID:10009234-1784571300-1784577600@www.tsv-destedt.de
SUMMARY:Volleyball Jugend Training
DESCRIPTION:
URL:https://www.tsv-destedt.de/event/volleyball-jugend-training-2/2026-07-20/
LOCATION:Sporthalle Destedt\, Ohestraße 1\, Cremlingen\, Nieder#\, 38162\, Germany
CATEGORIES:Volleyball
ATTACH;FMTTYPE=image/jpeg:https://www.tsv-destedt.de/wp-content/uploads/2025/01/ball-1930192_640_8aiz.jpg
ORGANIZER;CN="TSV Destedt":MAILTO:info@tsv-destedt.de
END:VEVENT
BEGIN:VEVENT
DTSTART;TZID=Europe/Berlin:20260727T181500
DTEND;TZID=Europe/Berlin:20260727T200000
DTSTAMP:20260422T235046
CREATED:20251212T074801Z
LAST-MODIFIED:20251212T074946Z
UID:10009235-1785176100-1785182400@www.tsv-destedt.de
SUMMARY:Volleyball Jugend Training
DESCRIPTION:
URL:https://www.tsv-destedt.de/event/volleyball-jugend-training-2/2026-07-27/
LOCATION:Sporthalle Destedt\, Ohestraße 1\, Cremlingen\, Nieder#\, 38162\, Germany
CATEGORIES:Volleyball
ATTACH;FMTTYPE=image/jpeg:https://www.tsv-destedt.de/wp-content/uploads/2025/01/ball-1930192_640_8aiz.jpg
ORGANIZER;CN="TSV Destedt":MAILTO:info@tsv-destedt.de
END:VEVENT
BEGIN:VEVENT
DTSTART;TZID=Europe/Berlin:20260803T181500
DTEND;TZID=Europe/Berlin:20260803T200000
DTSTAMP:20260422T235046
CREATED:20251212T074801Z
LAST-MODIFIED:20251212T074946Z
UID:10009236-1785780900-1785787200@www.tsv-destedt.de
SUMMARY:Volleyball Jugend Training
DESCRIPTION:
URL:https://www.tsv-destedt.de/event/volleyball-jugend-training-2/2026-08-03/
LOCATION:Sporthalle Destedt\, Ohestraße 1\, Cremlingen\, Nieder#\, 38162\, Germany
CATEGORIES:Volleyball
ATTACH;FMTTYPE=image/jpeg:https://www.tsv-destedt.de/wp-content/uploads/2025/01/ball-1930192_640_8aiz.jpg
ORGANIZER;CN="TSV Destedt":MAILTO:info@tsv-destedt.de
END:VEVENT
BEGIN:VEVENT
DTSTART;TZID=Europe/Berlin:20260810T181500
DTEND;TZID=Europe/Berlin:20260810T200000
DTSTAMP:20260422T235046
CREATED:20251212T074801Z
LAST-MODIFIED:20251212T074946Z
UID:10009237-1786385700-1786392000@www.tsv-destedt.de
SUMMARY:Volleyball Jugend Training
DESCRIPTION:
URL:https://www.tsv-destedt.de/event/volleyball-jugend-training-2/2026-08-10/
LOCATION:Sporthalle Destedt\, Ohestraße 1\, Cremlingen\, Nieder#\, 38162\, Germany
CATEGORIES:Volleyball
ATTACH;FMTTYPE=image/jpeg:https://www.tsv-destedt.de/wp-content/uploads/2025/01/ball-1930192_640_8aiz.jpg
ORGANIZER;CN="TSV Destedt":MAILTO:info@tsv-destedt.de
END:VEVENT
BEGIN:VEVENT
DTSTART;TZID=Europe/Berlin:20260817T181500
DTEND;TZID=Europe/Berlin:20260817T200000
DTSTAMP:20260422T235046
CREATED:20251212T074801Z
LAST-MODIFIED:20251212T074946Z
UID:10009238-1786990500-1786996800@www.tsv-destedt.de
SUMMARY:Volleyball Jugend Training
DESCRIPTION:
URL:https://www.tsv-destedt.de/event/volleyball-jugend-training-2/2026-08-17/
LOCATION:Sporthalle Destedt\, Ohestraße 1\, Cremlingen\, Nieder#\, 38162\, Germany
CATEGORIES:Volleyball
ATTACH;FMTTYPE=image/jpeg:https://www.tsv-destedt.de/wp-content/uploads/2025/01/ball-1930192_640_8aiz.jpg
ORGANIZER;CN="TSV Destedt":MAILTO:info@tsv-destedt.de
END:VEVENT
BEGIN:VEVENT
DTSTART;TZID=Europe/Berlin:20260824T181500
DTEND;TZID=Europe/Berlin:20260824T200000
DTSTAMP:20260422T235046
CREATED:20251212T074801Z
LAST-MODIFIED:20251212T074946Z
UID:10009239-1787595300-1787601600@www.tsv-destedt.de
SUMMARY:Volleyball Jugend Training
DESCRIPTION:
URL:https://www.tsv-destedt.de/event/volleyball-jugend-training-2/2026-08-24/
LOCATION:Sporthalle Destedt\, Ohestraße 1\, Cremlingen\, Nieder#\, 38162\, Germany
CATEGORIES:Volleyball
ATTACH;FMTTYPE=image/jpeg:https://www.tsv-destedt.de/wp-content/uploads/2025/01/ball-1930192_640_8aiz.jpg
ORGANIZER;CN="TSV Destedt":MAILTO:info@tsv-destedt.de
END:VEVENT
BEGIN:VEVENT
DTSTART;TZID=Europe/Berlin:20260831T181500
DTEND;TZID=Europe/Berlin:20260831T200000
DTSTAMP:20260422T235046
CREATED:20251212T074801Z
LAST-MODIFIED:20251212T074946Z
UID:10009240-1788200100-1788206400@www.tsv-destedt.de
SUMMARY:Volleyball Jugend Training
DESCRIPTION:
URL:https://www.tsv-destedt.de/event/volleyball-jugend-training-2/2026-08-31/
LOCATION:Sporthalle Destedt\, Ohestraße 1\, Cremlingen\, Nieder#\, 38162\, Germany
CATEGORIES:Volleyball
ATTACH;FMTTYPE=image/jpeg:https://www.tsv-destedt.de/wp-content/uploads/2025/01/ball-1930192_640_8aiz.jpg
ORGANIZER;CN="TSV Destedt":MAILTO:info@tsv-destedt.de
END:VEVENT
BEGIN:VEVENT
DTSTART;TZID=Europe/Berlin:20260907T181500
DTEND;TZID=Europe/Berlin:20260907T200000
DTSTAMP:20260422T235046
CREATED:20251212T074801Z
LAST-MODIFIED:20251212T074946Z
UID:10009241-1788804900-1788811200@www.tsv-destedt.de
SUMMARY:Volleyball Jugend Training
DESCRIPTION:
URL:https://www.tsv-destedt.de/event/volleyball-jugend-training-2/2026-09-07/
LOCATION:Sporthalle Destedt\, Ohestraße 1\, Cremlingen\, Nieder#\, 38162\, Germany
CATEGORIES:Volleyball
ATTACH;FMTTYPE=image/jpeg:https://www.tsv-destedt.de/wp-content/uploads/2025/01/ball-1930192_640_8aiz.jpg
ORGANIZER;CN="TSV Destedt":MAILTO:info@tsv-destedt.de
END:VEVENT
BEGIN:VEVENT
DTSTART;TZID=Europe/Berlin:20260914T181500
DTEND;TZID=Europe/Berlin:20260914T200000
DTSTAMP:20260422T235046
CREATED:20251212T074801Z
LAST-MODIFIED:20251212T074946Z
UID:10009242-1789409700-1789416000@www.tsv-destedt.de
SUMMARY:Volleyball Jugend Training
DESCRIPTION:
URL:https://www.tsv-destedt.de/event/volleyball-jugend-training-2/2026-09-14/
LOCATION:Sporthalle Destedt\, Ohestraße 1\, Cremlingen\, Nieder#\, 38162\, Germany
CATEGORIES:Volleyball
ATTACH;FMTTYPE=image/jpeg:https://www.tsv-destedt.de/wp-content/uploads/2025/01/ball-1930192_640_8aiz.jpg
ORGANIZER;CN="TSV Destedt":MAILTO:info@tsv-destedt.de
END:VEVENT
BEGIN:VEVENT
DTSTART;TZID=Europe/Berlin:20260921T181500
DTEND;TZID=Europe/Berlin:20260921T200000
DTSTAMP:20260422T235046
CREATED:20251212T074801Z
LAST-MODIFIED:20251212T074946Z
UID:10009243-1790014500-1790020800@www.tsv-destedt.de
SUMMARY:Volleyball Jugend Training
DESCRIPTION:
URL:https://www.tsv-destedt.de/event/volleyball-jugend-training-2/2026-09-21/
LOCATION:Sporthalle Destedt\, Ohestraße 1\, Cremlingen\, Nieder#\, 38162\, Germany
CATEGORIES:Volleyball
ATTACH;FMTTYPE=image/jpeg:https://www.tsv-destedt.de/wp-content/uploads/2025/01/ball-1930192_640_8aiz.jpg
ORGANIZER;CN="TSV Destedt":MAILTO:info@tsv-destedt.de
END:VEVENT
BEGIN:VEVENT
DTSTART;TZID=Europe/Berlin:20260928T181500
DTEND;TZID=Europe/Berlin:20260928T200000
DTSTAMP:20260422T235046
CREATED:20251212T074801Z
LAST-MODIFIED:20251212T074946Z
UID:10009244-1790619300-1790625600@www.tsv-destedt.de
SUMMARY:Volleyball Jugend Training
DESCRIPTION:
URL:https://www.tsv-destedt.de/event/volleyball-jugend-training-2/2026-09-28/
LOCATION:Sporthalle Destedt\, Ohestraße 1\, Cremlingen\, Nieder#\, 38162\, Germany
CATEGORIES:Volleyball
ATTACH;FMTTYPE=image/jpeg:https://www.tsv-destedt.de/wp-content/uploads/2025/01/ball-1930192_640_8aiz.jpg
ORGANIZER;CN="TSV Destedt":MAILTO:info@tsv-destedt.de
END:VEVENT
BEGIN:VEVENT
DTSTART;TZID=Europe/Berlin:20261005T181500
DTEND;TZID=Europe/Berlin:20261005T200000
DTSTAMP:20260422T235046
CREATED:20251212T074801Z
LAST-MODIFIED:20251212T074946Z
UID:10009245-1791224100-1791230400@www.tsv-destedt.de
SUMMARY:Volleyball Jugend Training
DESCRIPTION:
URL:https://www.tsv-destedt.de/event/volleyball-jugend-training-2/2026-10-05/
LOCATION:Sporthalle Destedt\, Ohestraße 1\, Cremlingen\, Nieder#\, 38162\, Germany
CATEGORIES:Volleyball
ATTACH;FMTTYPE=image/jpeg:https://www.tsv-destedt.de/wp-content/uploads/2025/01/ball-1930192_640_8aiz.jpg
ORGANIZER;CN="TSV Destedt":MAILTO:info@tsv-destedt.de
END:VEVENT
BEGIN:VEVENT
DTSTART;TZID=Europe/Berlin:20261012T181500
DTEND;TZID=Europe/Berlin:20261012T200000
DTSTAMP:20260422T235046
CREATED:20251212T074801Z
LAST-MODIFIED:20251212T074946Z
UID:10009246-1791828900-1791835200@www.tsv-destedt.de
SUMMARY:Volleyball Jugend Training
DESCRIPTION:
URL:https://www.tsv-destedt.de/event/volleyball-jugend-training-2/2026-10-12/
LOCATION:Sporthalle Destedt\, Ohestraße 1\, Cremlingen\, Nieder#\, 38162\, Germany
CATEGORIES:Volleyball
ATTACH;FMTTYPE=image/jpeg:https://www.tsv-destedt.de/wp-content/uploads/2025/01/ball-1930192_640_8aiz.jpg
ORGANIZER;CN="TSV Destedt":MAILTO:info@tsv-destedt.de
END:VEVENT
BEGIN:VEVENT
DTSTART;TZID=Europe/Berlin:20261019T181500
DTEND;TZID=Europe/Berlin:20261019T200000
DTSTAMP:20260422T235046
CREATED:20251212T074801Z
LAST-MODIFIED:20251212T074946Z
UID:10009247-1792433700-1792440000@www.tsv-destedt.de
SUMMARY:Volleyball Jugend Training
DESCRIPTION:
URL:https://www.tsv-destedt.de/event/volleyball-jugend-training-2/2026-10-19/
LOCATION:Sporthalle Destedt\, Ohestraße 1\, Cremlingen\, Nieder#\, 38162\, Germany
CATEGORIES:Volleyball
ATTACH;FMTTYPE=image/jpeg:https://www.tsv-destedt.de/wp-content/uploads/2025/01/ball-1930192_640_8aiz.jpg
ORGANIZER;CN="TSV Destedt":MAILTO:info@tsv-destedt.de
END:VEVENT
BEGIN:VEVENT
DTSTART;TZID=Europe/Berlin:20261026T181500
DTEND;TZID=Europe/Berlin:20261026T200000
DTSTAMP:20260422T235046
CREATED:20251212T074801Z
LAST-MODIFIED:20251212T074946Z
UID:10009248-1793038500-1793044800@www.tsv-destedt.de
SUMMARY:Volleyball Jugend Training
DESCRIPTION:
URL:https://www.tsv-destedt.de/event/volleyball-jugend-training-2/2026-10-26/
LOCATION:Sporthalle Destedt\, Ohestraße 1\, Cremlingen\, Nieder#\, 38162\, Germany
CATEGORIES:Volleyball
ATTACH;FMTTYPE=image/jpeg:https://www.tsv-destedt.de/wp-content/uploads/2025/01/ball-1930192_640_8aiz.jpg
ORGANIZER;CN="TSV Destedt":MAILTO:info@tsv-destedt.de
END:VEVENT
BEGIN:VEVENT
DTSTART;TZID=Europe/Berlin:20261102T181500
DTEND;TZID=Europe/Berlin:20261102T200000
DTSTAMP:20260422T235046
CREATED:20251212T074801Z
LAST-MODIFIED:20251212T074946Z
UID:10009249-1793643300-1793649600@www.tsv-destedt.de
SUMMARY:Volleyball Jugend Training
DESCRIPTION:
URL:https://www.tsv-destedt.de/event/volleyball-jugend-training-2/2026-11-02/
LOCATION:Sporthalle Destedt\, Ohestraße 1\, Cremlingen\, Nieder#\, 38162\, Germany
CATEGORIES:Volleyball
ATTACH;FMTTYPE=image/jpeg:https://www.tsv-destedt.de/wp-content/uploads/2025/01/ball-1930192_640_8aiz.jpg
ORGANIZER;CN="TSV Destedt":MAILTO:info@tsv-destedt.de
END:VEVENT
BEGIN:VEVENT
DTSTART;TZID=Europe/Berlin:20261109T181500
DTEND;TZID=Europe/Berlin:20261109T200000
DTSTAMP:20260422T235046
CREATED:20251212T074801Z
LAST-MODIFIED:20251212T074946Z
UID:10009250-1794248100-1794254400@www.tsv-destedt.de
SUMMARY:Volleyball Jugend Training
DESCRIPTION:
URL:https://www.tsv-destedt.de/event/volleyball-jugend-training-2/2026-11-09/
LOCATION:Sporthalle Destedt\, Ohestraße 1\, Cremlingen\, Nieder#\, 38162\, Germany
CATEGORIES:Volleyball
ATTACH;FMTTYPE=image/jpeg:https://www.tsv-destedt.de/wp-content/uploads/2025/01/ball-1930192_640_8aiz.jpg
ORGANIZER;CN="TSV Destedt":MAILTO:info@tsv-destedt.de
END:VEVENT
BEGIN:VEVENT
DTSTART;TZID=Europe/Berlin:20261116T181500
DTEND;TZID=Europe/Berlin:20261116T200000
DTSTAMP:20260422T235046
CREATED:20251212T074801Z
LAST-MODIFIED:20251212T074946Z
UID:10009251-1794852900-1794859200@www.tsv-destedt.de
SUMMARY:Volleyball Jugend Training
DESCRIPTION:
URL:https://www.tsv-destedt.de/event/volleyball-jugend-training-2/2026-11-16/
LOCATION:Sporthalle Destedt\, Ohestraße 1\, Cremlingen\, Nieder#\, 38162\, Germany
CATEGORIES:Volleyball
ATTACH;FMTTYPE=image/jpeg:https://www.tsv-destedt.de/wp-content/uploads/2025/01/ball-1930192_640_8aiz.jpg
ORGANIZER;CN="TSV Destedt":MAILTO:info@tsv-destedt.de
END:VEVENT
END:VCALENDAR