BEGIN:VCALENDAR
VERSION:2.0
PRODID:-//TSV Destedt - ECPv6.15.20//NONSGML v1.0//EN
CALSCALE:GREGORIAN
METHOD:PUBLISH
X-WR-CALNAME:TSV Destedt
X-ORIGINAL-URL:https://www.tsv-destedt.de
X-WR-CALDESC:Veranstaltungen für TSV Destedt
REFRESH-INTERVAL;VALUE=DURATION:PT1H
X-Robots-Tag:noindex
X-PUBLISHED-TTL:PT1H
BEGIN:VTIMEZONE
TZID:Europe/Berlin
BEGIN:DAYLIGHT
TZOFFSETFROM:+0100
TZOFFSETTO:+0200
TZNAME:CEST
DTSTART:20270328T010000
END:DAYLIGHT
BEGIN:STANDARD
TZOFFSETFROM:+0200
TZOFFSETTO:+0100
TZNAME:CET
DTSTART:20271031T010000
END:STANDARD
BEGIN:DAYLIGHT
TZOFFSETFROM:+0100
TZOFFSETTO:+0200
TZNAME:CEST
DTSTART:20280326T010000
END:DAYLIGHT
BEGIN:STANDARD
TZOFFSETFROM:+0200
TZOFFSETTO:+0100
TZNAME:CET
DTSTART:20281029T010000
END:STANDARD
BEGIN:DAYLIGHT
TZOFFSETFROM:+0100
TZOFFSETTO:+0200
TZNAME:CEST
DTSTART:20290325T010000
END:DAYLIGHT
BEGIN:STANDARD
TZOFFSETFROM:+0200
TZOFFSETTO:+0100
TZNAME:CET
DTSTART:20291028T010000
END:STANDARD
END:VTIMEZONE
BEGIN:VEVENT
DTSTART;TZID=Europe/Berlin:20280417T190000
DTEND;TZID=Europe/Berlin:20280417T201500
DTSTAMP:20260420T063341
CREATED:20251108T164305Z
LAST-MODIFIED:20251108T164305Z
UID:10009061-1839610800-1839615300@www.tsv-destedt.de
SUMMARY:Fußball: Alte Herren (Ü40) Training
DESCRIPTION:
URL:https://www.tsv-destedt.de/event/fussball-alte-herren-ue40-training/2028-04-17/
LOCATION:Sportplatz TSV Destedt\, Ohestraße 1\, Cremlingen\, Niedersachsen\, 38162\, Germany
CATEGORIES:Fußball
ATTACH;FMTTYPE=image/jpeg:https://www.tsv-destedt.de/wp-content/uploads/2025/01/soccer-933037_640_rKSk.jpg
ORGANIZER;CN="TSV Destedt":MAILTO:info@tsv-destedt.de
END:VEVENT
BEGIN:VEVENT
DTSTART;TZID=Europe/Berlin:20280417T200000
DTEND;TZID=Europe/Berlin:20280417T213000
DTSTAMP:20260420T063341
CREATED:20250104T102036Z
LAST-MODIFIED:20250104T105140Z
UID:10002785-1839614400-1839619800@www.tsv-destedt.de
SUMMARY:Volleyball Damen Training
DESCRIPTION:
URL:https://www.tsv-destedt.de/event/volleyball-damen-training/2028-04-17/
LOCATION:Sporthalle Destedt\, Ohestraße 1\, Cremlingen\, Nieder#\, 38162\, Germany
CATEGORIES:Volleyball
ATTACH;FMTTYPE=image/jpeg:https://www.tsv-destedt.de/wp-content/uploads/2025/01/ball-1930192_640_8aiz.jpg
ORGANIZER;CN="TSV Destedt":MAILTO:info@tsv-destedt.de
END:VEVENT
BEGIN:VEVENT
DTSTART;TZID=Europe/Berlin:20280418T183000
DTEND;TZID=Europe/Berlin:20280418T200000
DTSTAMP:20260420T063341
CREATED:20250104T112429Z
LAST-MODIFIED:20250107T143518Z
UID:10006768-1839695400-1839700800@www.tsv-destedt.de
SUMMARY:Volleyball Mixed Training
DESCRIPTION:
URL:https://www.tsv-destedt.de/event/volleyball-mixed-training/2028-04-18/
LOCATION:Sporthalle Destedt\, Ohestraße 1\, Cremlingen\, Nieder#\, 38162\, Germany
CATEGORIES:Volleyball
ATTACH;FMTTYPE=image/jpeg:https://www.tsv-destedt.de/wp-content/uploads/2025/01/ball-1930192_640_8aiz.jpg
ORGANIZER;CN="TSV Destedt":MAILTO:info@tsv-destedt.de
END:VEVENT
BEGIN:VEVENT
DTSTART;TZID=Europe/Berlin:20280418T183000
DTEND;TZID=Europe/Berlin:20280418T203000
DTSTAMP:20260420T063341
CREATED:20250104T102238Z
LAST-MODIFIED:20250104T105051Z
UID:10003478-1839695400-1839702600@www.tsv-destedt.de
SUMMARY:Fußball: Training 1. Herren
DESCRIPTION:
URL:https://www.tsv-destedt.de/event/fussball-training-1-herren/2028-04-18/
LOCATION:Sportplatz TSV Destedt\, Ohestraße 1\, Cremlingen\, Niedersachsen\, 38162\, Germany
CATEGORIES:Fußball
ATTACH;FMTTYPE=image/jpeg:https://www.tsv-destedt.de/wp-content/uploads/2025/01/soccer-933037_640_rKSk.jpg
ORGANIZER;CN="TSV Destedt":MAILTO:info@tsv-destedt.de
END:VEVENT
BEGIN:VEVENT
DTSTART;TZID=Europe/Berlin:20280418T190000
DTEND;TZID=Europe/Berlin:20280418T201500
DTSTAMP:20260420T063341
CREATED:20250104T102325Z
LAST-MODIFIED:20250104T105023Z
UID:10003829-1839697200-1839701700@www.tsv-destedt.de
SUMMARY:Fußball: Alte Herren (Ü32) Training
DESCRIPTION:
URL:https://www.tsv-destedt.de/event/fussball-alte-herren-ue32-training/2028-04-18/
LOCATION:Sportplatz TSV Destedt\, Ohestraße 1\, Cremlingen\, Niedersachsen\, 38162\, Germany
CATEGORIES:Fußball
ATTACH;FMTTYPE=image/jpeg:https://www.tsv-destedt.de/wp-content/uploads/2025/01/soccer-933037_640_rKSk.jpg
ORGANIZER;CN="TSV Destedt":MAILTO:info@tsv-destedt.de
END:VEVENT
BEGIN:VEVENT
DTSTART;TZID=Europe/Berlin:20280418T203000
DTEND;TZID=Europe/Berlin:20280418T220000
DTSTAMP:20260420T063341
CREATED:20250104T102136Z
LAST-MODIFIED:20250115T085251Z
UID:10003046-1839702600-1839708000@www.tsv-destedt.de
SUMMARY:Ball über die Schnur
DESCRIPTION:Ball über die Schnur
URL:https://www.tsv-destedt.de/event/ball-ueber-die-schnur/2028-04-18/
LOCATION:Sporthalle Destedt\, Ohestraße 1\, Cremlingen\, Nieder#\, 38162\, Germany
CATEGORIES:Ball über die Schnur
ORGANIZER;CN="TSV Destedt":MAILTO:info@tsv-destedt.de
END:VEVENT
BEGIN:VEVENT
DTSTART;TZID=Europe/Berlin:20280419T190000
DTEND;TZID=Europe/Berlin:20280419T200000
DTSTAMP:20260420T063341
CREATED:20250104T102424Z
LAST-MODIFIED:20250404T111348Z
UID:10007774-1839783600-1839787200@www.tsv-destedt.de
SUMMARY:Bodyfit Training
DESCRIPTION:Bodyfit
URL:https://www.tsv-destedt.de/event/bodyfit-training/2028-04-19/
LOCATION:Sporthalle Destedt\, Ohestraße 1\, Cremlingen\, Nieder#\, 38162\, Germany
CATEGORIES:Bodyfit
ATTACH;FMTTYPE=image/jpeg:https://www.tsv-destedt.de/wp-content/uploads/2025/01/dumbbells-2465478_640_ZRpa.jpg
ORGANIZER;CN="TSV Destedt":MAILTO:info@tsv-destedt.de
END:VEVENT
BEGIN:VEVENT
DTSTART;TZID=Europe/Berlin:20280420T153000
DTEND;TZID=Europe/Berlin:20280420T170000
DTSTAMP:20260420T063341
CREATED:20250104T102534Z
LAST-MODIFIED:20250206T082535Z
UID:10004351-1839857400-1839862800@www.tsv-destedt.de
SUMMARY:Leichtathletik Kids
DESCRIPTION:Leichtathletik-Kids
URL:https://www.tsv-destedt.de/event/leichtathletik-kids-2/2028-04-20/
LOCATION:Sporthalle Destedt\, Ohestraße 1\, Cremlingen\, Nieder#\, 38162\, Germany
CATEGORIES:Leichtathletik
ATTACH;FMTTYPE=image/jpeg:https://www.tsv-destedt.de/wp-content/uploads/2024/10/DSC01850-scaled.jpg
ORGANIZER;CN="TSV Destedt":MAILTO:info@tsv-destedt.de
END:VEVENT
BEGIN:VEVENT
DTSTART;TZID=Europe/Berlin:20280420T163000
DTEND;TZID=Europe/Berlin:20280420T181500
DTSTAMP:20260420T063341
CREATED:20250104T102658Z
LAST-MODIFIED:20250115T085520Z
UID:10006444-1839861000-1839867300@www.tsv-destedt.de
SUMMARY:Dancekids Training
DESCRIPTION:Dance Kids
URL:https://www.tsv-destedt.de/event/dancekids-training/2028-04-20/
LOCATION:Sporthalle Destedt\, Ohestraße 1\, Cremlingen\, Nieder#\, 38162\, Germany
CATEGORIES:Dancekids
ATTACH;FMTTYPE=image/png:https://www.tsv-destedt.de/wp-content/uploads/2024/08/Bild_2024-08-17_114111444.png
ORGANIZER;CN="TSV Destedt":MAILTO:info@tsv-destedt.de
END:VEVENT
BEGIN:VEVENT
DTSTART;TZID=Europe/Berlin:20280420T183000
DTEND;TZID=Europe/Berlin:20280420T203000
DTSTAMP:20260420T063341
CREATED:20250104T102238Z
LAST-MODIFIED:20250104T105051Z
UID:10003479-1839868200-1839875400@www.tsv-destedt.de
SUMMARY:Fußball: Training 1. Herren
DESCRIPTION:
URL:https://www.tsv-destedt.de/event/fussball-training-1-herren/2028-04-20/
LOCATION:Sportplatz TSV Destedt\, Ohestraße 1\, Cremlingen\, Niedersachsen\, 38162\, Germany
CATEGORIES:Fußball
ATTACH;FMTTYPE=image/jpeg:https://www.tsv-destedt.de/wp-content/uploads/2025/01/soccer-933037_640_rKSk.jpg
ORGANIZER;CN="TSV Destedt":MAILTO:info@tsv-destedt.de
END:VEVENT
BEGIN:VEVENT
DTSTART;TZID=Europe/Berlin:20280420T190000
DTEND;TZID=Europe/Berlin:20280420T210000
DTSTAMP:20260420T063341
CREATED:20250412T070116Z
LAST-MODIFIED:20250412T070117Z
UID:10008078-1839870000-1839877200@www.tsv-destedt.de
SUMMARY:Tanzgarde Training
DESCRIPTION:
URL:https://www.tsv-destedt.de/event/tanzgarde-training-2/2028-04-20/
LOCATION:Sporthalle Destedt\, Ohestraße 1\, Cremlingen\, Nieder#\, 38162\, Germany
CATEGORIES:Tanzgarde
ATTACH;FMTTYPE=image/jpeg:https://www.tsv-destedt.de/wp-content/uploads/2025/01/Lippelt.jpeg
ORGANIZER;CN="TSV Destedt":MAILTO:info@tsv-destedt.de
END:VEVENT
BEGIN:VEVENT
DTSTART;TZID=Europe/Berlin:20280421T163000
DTEND;TZID=Europe/Berlin:20280421T183000
DTSTAMP:20260420T063341
CREATED:20250425T060909Z
LAST-MODIFIED:20251010T132207Z
UID:10004874-1839947400-1839954600@www.tsv-destedt.de
SUMMARY:Fußball Jugend Training
DESCRIPTION:
URL:https://www.tsv-destedt.de/event/fussball-jugend-training-3/2028-04-21/
LOCATION:Sportplatz TSV Destedt\, Ohestraße 1\, Cremlingen\, Niedersachsen\, 38162\, Germany
CATEGORIES:Fußball
ATTACH;FMTTYPE=image/jpeg:https://www.tsv-destedt.de/wp-content/uploads/2025/01/soccer-933037_640_rKSk.jpg
ORGANIZER;CN="TSV Destedt":MAILTO:info@tsv-destedt.de
END:VEVENT
BEGIN:VEVENT
DTSTART;TZID=Europe/Berlin:20280421T200000
DTEND;TZID=Europe/Berlin:20280421T220000
DTSTAMP:20260420T063341
CREATED:20250104T103132Z
LAST-MODIFIED:20250115T084303Z
UID:10005136-1839960000-1839967200@www.tsv-destedt.de
SUMMARY:Basketball Training
DESCRIPTION:Basketball
URL:https://www.tsv-destedt.de/event/basketball-training/2028-04-21/
LOCATION:Sporthalle Destedt\, Ohestraße 1\, Cremlingen\, Nieder#\, 38162\, Germany
CATEGORIES:Basketball
ATTACH;FMTTYPE=image/jpeg:https://www.tsv-destedt.de/wp-content/uploads/2025/01/basketball-7121617_640_1vVb.jpg
ORGANIZER;CN="TSV Destedt":MAILTO:info@tsv-destedt.de
END:VEVENT
BEGIN:VEVENT
DTSTART;TZID=Europe/Berlin:20280422T093000
DTEND;TZID=Europe/Berlin:20280422T123000
DTSTAMP:20260420T063341
CREATED:20250325T065208Z
LAST-MODIFIED:20250403T101957Z
UID:10005659-1840008600-1840019400@www.tsv-destedt.de
SUMMARY:Leichtathletik Kids
DESCRIPTION:Leichtathletik-Kids
URL:https://www.tsv-destedt.de/event/leichtathletik-kids-4/2028-04-22/
LOCATION:Sporthalle Destedt\, Ohestraße 1\, Cremlingen\, Nieder#\, 38162\, Germany
CATEGORIES:Leichtathletik
ATTACH;FMTTYPE=image/jpeg:https://www.tsv-destedt.de/wp-content/uploads/2024/10/DSC01850-scaled.jpg
END:VEVENT
BEGIN:VEVENT
DTSTART;TZID=Europe/Berlin:20280423T110000
DTEND;TZID=Europe/Berlin:20280423T130000
DTSTAMP:20260420T063341
CREATED:20250104T101116Z
LAST-MODIFIED:20251227T185219Z
UID:10001937-1840100400-1840107600@www.tsv-destedt.de
SUMMARY:Tischtennis
DESCRIPTION:
URL:https://www.tsv-destedt.de/event/tischtennis/2028-04-23/
LOCATION:Sporthalle Destedt\, Ohestraße 1\, Cremlingen\, Nieder#\, 38162\, Germany
CATEGORIES:Tischtennis
ATTACH;FMTTYPE=image/jpeg:https://www.tsv-destedt.de/wp-content/uploads/2024/11/sports-3097621_1920.jpg
END:VEVENT
BEGIN:VEVENT
DTSTART;TZID=Europe/Berlin:20280423T163000
DTEND;TZID=Europe/Berlin:20280423T190000
DTSTAMP:20260420T063341
CREATED:20251227T085658Z
LAST-MODIFIED:20251227T085700Z
UID:10001676-1840120200-1840129200@www.tsv-destedt.de
SUMMARY:Hobby Horsing
DESCRIPTION:Hobby Horsing
URL:https://www.tsv-destedt.de/event/hobby-horsing-2-8/2028-04-23/
LOCATION:Sporthalle Destedt\, Ohestraße 1\, Cremlingen\, Nieder#\, 38162\, Germany
CATEGORIES:Hobby Horsing
ATTACH;FMTTYPE=image/jpeg:https://www.tsv-destedt.de/wp-content/uploads/2024/08/c6c0aacd-832f-4783-b7c5-cfce7e9f8735.jpeg
ORGANIZER;CN="RuF Cremlingen und TSV Destedt":MAILTO:hobby-horsing@tsv-destedt.de
END:VEVENT
BEGIN:VEVENT
DTSTART;TZID=Europe/Berlin:20280424T160000
DTEND;TZID=Europe/Berlin:20280424T165500
DTSTAMP:20260420T063341
CREATED:20250104T101719Z
LAST-MODIFIED:20250518T095134Z
UID:10007062-1840204800-1840208100@www.tsv-destedt.de
SUMMARY:Eltern-/ Kindturnen
DESCRIPTION:Kinderturnen
URL:https://www.tsv-destedt.de/event/kinderturnen/2028-04-24/
LOCATION:Sporthalle Destedt\, Ohestraße 1\, Cremlingen\, Nieder#\, 38162\, Germany
CATEGORIES:Kinderturnen
ATTACH;FMTTYPE=image/jpeg:https://www.tsv-destedt.de/wp-content/uploads/2024/11/PHOTO-2024-10-29-13-07-42-1-e1731167738809.jpg
ORGANIZER;CN="TSV Destedt":MAILTO:info@tsv-destedt.de
END:VEVENT
BEGIN:VEVENT
DTSTART;TZID=Europe/Berlin:20280424T181500
DTEND;TZID=Europe/Berlin:20280424T200000
DTSTAMP:20260420T063341
CREATED:20251212T074801Z
LAST-MODIFIED:20251212T074946Z
UID:10009326-1840212900-1840219200@www.tsv-destedt.de
SUMMARY:Volleyball Jugend Training
DESCRIPTION:
URL:https://www.tsv-destedt.de/event/volleyball-jugend-training-2/2028-04-24/
LOCATION:Sporthalle Destedt\, Ohestraße 1\, Cremlingen\, Nieder#\, 38162\, Germany
CATEGORIES:Volleyball
ATTACH;FMTTYPE=image/jpeg:https://www.tsv-destedt.de/wp-content/uploads/2025/01/ball-1930192_640_8aiz.jpg
ORGANIZER;CN="TSV Destedt":MAILTO:info@tsv-destedt.de
END:VEVENT
BEGIN:VEVENT
DTSTART;TZID=Europe/Berlin:20280424T190000
DTEND;TZID=Europe/Berlin:20280424T201500
DTSTAMP:20260420T063341
CREATED:20251108T164305Z
LAST-MODIFIED:20251108T164305Z
UID:10009062-1840215600-1840220100@www.tsv-destedt.de
SUMMARY:Fußball: Alte Herren (Ü40) Training
DESCRIPTION:
URL:https://www.tsv-destedt.de/event/fussball-alte-herren-ue40-training/2028-04-24/
LOCATION:Sportplatz TSV Destedt\, Ohestraße 1\, Cremlingen\, Niedersachsen\, 38162\, Germany
CATEGORIES:Fußball
ATTACH;FMTTYPE=image/jpeg:https://www.tsv-destedt.de/wp-content/uploads/2025/01/soccer-933037_640_rKSk.jpg
ORGANIZER;CN="TSV Destedt":MAILTO:info@tsv-destedt.de
END:VEVENT
BEGIN:VEVENT
DTSTART;TZID=Europe/Berlin:20280424T200000
DTEND;TZID=Europe/Berlin:20280424T213000
DTSTAMP:20260420T063341
CREATED:20250104T102036Z
LAST-MODIFIED:20250104T105140Z
UID:10002786-1840219200-1840224600@www.tsv-destedt.de
SUMMARY:Volleyball Damen Training
DESCRIPTION:
URL:https://www.tsv-destedt.de/event/volleyball-damen-training/2028-04-24/
LOCATION:Sporthalle Destedt\, Ohestraße 1\, Cremlingen\, Nieder#\, 38162\, Germany
CATEGORIES:Volleyball
ATTACH;FMTTYPE=image/jpeg:https://www.tsv-destedt.de/wp-content/uploads/2025/01/ball-1930192_640_8aiz.jpg
ORGANIZER;CN="TSV Destedt":MAILTO:info@tsv-destedt.de
END:VEVENT
BEGIN:VEVENT
DTSTART;TZID=Europe/Berlin:20280425T183000
DTEND;TZID=Europe/Berlin:20280425T200000
DTSTAMP:20260420T063341
CREATED:20250104T112429Z
LAST-MODIFIED:20250107T143518Z
UID:10006769-1840300200-1840305600@www.tsv-destedt.de
SUMMARY:Volleyball Mixed Training
DESCRIPTION:
URL:https://www.tsv-destedt.de/event/volleyball-mixed-training/2028-04-25/
LOCATION:Sporthalle Destedt\, Ohestraße 1\, Cremlingen\, Nieder#\, 38162\, Germany
CATEGORIES:Volleyball
ATTACH;FMTTYPE=image/jpeg:https://www.tsv-destedt.de/wp-content/uploads/2025/01/ball-1930192_640_8aiz.jpg
ORGANIZER;CN="TSV Destedt":MAILTO:info@tsv-destedt.de
END:VEVENT
BEGIN:VEVENT
DTSTART;TZID=Europe/Berlin:20280425T183000
DTEND;TZID=Europe/Berlin:20280425T203000
DTSTAMP:20260420T063341
CREATED:20250104T102238Z
LAST-MODIFIED:20250104T105051Z
UID:10003480-1840300200-1840307400@www.tsv-destedt.de
SUMMARY:Fußball: Training 1. Herren
DESCRIPTION:
URL:https://www.tsv-destedt.de/event/fussball-training-1-herren/2028-04-25/
LOCATION:Sportplatz TSV Destedt\, Ohestraße 1\, Cremlingen\, Niedersachsen\, 38162\, Germany
CATEGORIES:Fußball
ATTACH;FMTTYPE=image/jpeg:https://www.tsv-destedt.de/wp-content/uploads/2025/01/soccer-933037_640_rKSk.jpg
ORGANIZER;CN="TSV Destedt":MAILTO:info@tsv-destedt.de
END:VEVENT
BEGIN:VEVENT
DTSTART;TZID=Europe/Berlin:20280425T190000
DTEND;TZID=Europe/Berlin:20280425T201500
DTSTAMP:20260420T063341
CREATED:20250104T102325Z
LAST-MODIFIED:20250104T105023Z
UID:10003830-1840302000-1840306500@www.tsv-destedt.de
SUMMARY:Fußball: Alte Herren (Ü32) Training
DESCRIPTION:
URL:https://www.tsv-destedt.de/event/fussball-alte-herren-ue32-training/2028-04-25/
LOCATION:Sportplatz TSV Destedt\, Ohestraße 1\, Cremlingen\, Niedersachsen\, 38162\, Germany
CATEGORIES:Fußball
ATTACH;FMTTYPE=image/jpeg:https://www.tsv-destedt.de/wp-content/uploads/2025/01/soccer-933037_640_rKSk.jpg
ORGANIZER;CN="TSV Destedt":MAILTO:info@tsv-destedt.de
END:VEVENT
BEGIN:VEVENT
DTSTART;TZID=Europe/Berlin:20280425T203000
DTEND;TZID=Europe/Berlin:20280425T220000
DTSTAMP:20260420T063341
CREATED:20250104T102136Z
LAST-MODIFIED:20250115T085251Z
UID:10003047-1840307400-1840312800@www.tsv-destedt.de
SUMMARY:Ball über die Schnur
DESCRIPTION:Ball über die Schnur
URL:https://www.tsv-destedt.de/event/ball-ueber-die-schnur/2028-04-25/
LOCATION:Sporthalle Destedt\, Ohestraße 1\, Cremlingen\, Nieder#\, 38162\, Germany
CATEGORIES:Ball über die Schnur
ORGANIZER;CN="TSV Destedt":MAILTO:info@tsv-destedt.de
END:VEVENT
BEGIN:VEVENT
DTSTART;TZID=Europe/Berlin:20280426T190000
DTEND;TZID=Europe/Berlin:20280426T200000
DTSTAMP:20260420T063341
CREATED:20250104T102424Z
LAST-MODIFIED:20250404T111348Z
UID:10007775-1840388400-1840392000@www.tsv-destedt.de
SUMMARY:Bodyfit Training
DESCRIPTION:Bodyfit
URL:https://www.tsv-destedt.de/event/bodyfit-training/2028-04-26/
LOCATION:Sporthalle Destedt\, Ohestraße 1\, Cremlingen\, Nieder#\, 38162\, Germany
CATEGORIES:Bodyfit
ATTACH;FMTTYPE=image/jpeg:https://www.tsv-destedt.de/wp-content/uploads/2025/01/dumbbells-2465478_640_ZRpa.jpg
ORGANIZER;CN="TSV Destedt":MAILTO:info@tsv-destedt.de
END:VEVENT
BEGIN:VEVENT
DTSTART;TZID=Europe/Berlin:20280427T153000
DTEND;TZID=Europe/Berlin:20280427T170000
DTSTAMP:20260420T063341
CREATED:20250104T102534Z
LAST-MODIFIED:20250206T082535Z
UID:10004352-1840462200-1840467600@www.tsv-destedt.de
SUMMARY:Leichtathletik Kids
DESCRIPTION:Leichtathletik-Kids
URL:https://www.tsv-destedt.de/event/leichtathletik-kids-2/2028-04-27/
LOCATION:Sporthalle Destedt\, Ohestraße 1\, Cremlingen\, Nieder#\, 38162\, Germany
CATEGORIES:Leichtathletik
ATTACH;FMTTYPE=image/jpeg:https://www.tsv-destedt.de/wp-content/uploads/2024/10/DSC01850-scaled.jpg
ORGANIZER;CN="TSV Destedt":MAILTO:info@tsv-destedt.de
END:VEVENT
BEGIN:VEVENT
DTSTART;TZID=Europe/Berlin:20280427T163000
DTEND;TZID=Europe/Berlin:20280427T181500
DTSTAMP:20260420T063341
CREATED:20250104T102658Z
LAST-MODIFIED:20250115T085520Z
UID:10006445-1840465800-1840472100@www.tsv-destedt.de
SUMMARY:Dancekids Training
DESCRIPTION:Dance Kids
URL:https://www.tsv-destedt.de/event/dancekids-training/2028-04-27/
LOCATION:Sporthalle Destedt\, Ohestraße 1\, Cremlingen\, Nieder#\, 38162\, Germany
CATEGORIES:Dancekids
ATTACH;FMTTYPE=image/png:https://www.tsv-destedt.de/wp-content/uploads/2024/08/Bild_2024-08-17_114111444.png
ORGANIZER;CN="TSV Destedt":MAILTO:info@tsv-destedt.de
END:VEVENT
BEGIN:VEVENT
DTSTART;TZID=Europe/Berlin:20280427T183000
DTEND;TZID=Europe/Berlin:20280427T203000
DTSTAMP:20260420T063341
CREATED:20250104T102238Z
LAST-MODIFIED:20250104T105051Z
UID:10003481-1840473000-1840480200@www.tsv-destedt.de
SUMMARY:Fußball: Training 1. Herren
DESCRIPTION:
URL:https://www.tsv-destedt.de/event/fussball-training-1-herren/2028-04-27/
LOCATION:Sportplatz TSV Destedt\, Ohestraße 1\, Cremlingen\, Niedersachsen\, 38162\, Germany
CATEGORIES:Fußball
ATTACH;FMTTYPE=image/jpeg:https://www.tsv-destedt.de/wp-content/uploads/2025/01/soccer-933037_640_rKSk.jpg
ORGANIZER;CN="TSV Destedt":MAILTO:info@tsv-destedt.de
END:VEVENT
BEGIN:VEVENT
DTSTART;TZID=Europe/Berlin:20280427T190000
DTEND;TZID=Europe/Berlin:20280427T210000
DTSTAMP:20260420T063341
CREATED:20250412T070116Z
LAST-MODIFIED:20250412T070117Z
UID:10008079-1840474800-1840482000@www.tsv-destedt.de
SUMMARY:Tanzgarde Training
DESCRIPTION:
URL:https://www.tsv-destedt.de/event/tanzgarde-training-2/2028-04-27/
LOCATION:Sporthalle Destedt\, Ohestraße 1\, Cremlingen\, Nieder#\, 38162\, Germany
CATEGORIES:Tanzgarde
ATTACH;FMTTYPE=image/jpeg:https://www.tsv-destedt.de/wp-content/uploads/2025/01/Lippelt.jpeg
ORGANIZER;CN="TSV Destedt":MAILTO:info@tsv-destedt.de
END:VEVENT
BEGIN:VEVENT
DTSTART;TZID=Europe/Berlin:20280428T163000
DTEND;TZID=Europe/Berlin:20280428T183000
DTSTAMP:20260420T063341
CREATED:20250425T060909Z
LAST-MODIFIED:20251010T132207Z
UID:10004875-1840552200-1840559400@www.tsv-destedt.de
SUMMARY:Fußball Jugend Training
DESCRIPTION:
URL:https://www.tsv-destedt.de/event/fussball-jugend-training-3/2028-04-28/
LOCATION:Sportplatz TSV Destedt\, Ohestraße 1\, Cremlingen\, Niedersachsen\, 38162\, Germany
CATEGORIES:Fußball
ATTACH;FMTTYPE=image/jpeg:https://www.tsv-destedt.de/wp-content/uploads/2025/01/soccer-933037_640_rKSk.jpg
ORGANIZER;CN="TSV Destedt":MAILTO:info@tsv-destedt.de
END:VEVENT
END:VCALENDAR