BEGIN:VCALENDAR
VERSION:2.0
PRODID:-//TSV Destedt - ECPv6.15.20//NONSGML v1.0//EN
CALSCALE:GREGORIAN
METHOD:PUBLISH
X-WR-CALNAME:TSV Destedt
X-ORIGINAL-URL:https://www.tsv-destedt.de
X-WR-CALDESC:Veranstaltungen für TSV Destedt
REFRESH-INTERVAL;VALUE=DURATION:PT1H
X-Robots-Tag:noindex
X-PUBLISHED-TTL:PT1H
BEGIN:VTIMEZONE
TZID:Europe/Berlin
BEGIN:DAYLIGHT
TZOFFSETFROM:+0100
TZOFFSETTO:+0200
TZNAME:CEST
DTSTART:20270328T010000
END:DAYLIGHT
BEGIN:STANDARD
TZOFFSETFROM:+0200
TZOFFSETTO:+0100
TZNAME:CET
DTSTART:20271031T010000
END:STANDARD
BEGIN:DAYLIGHT
TZOFFSETFROM:+0100
TZOFFSETTO:+0200
TZNAME:CEST
DTSTART:20280326T010000
END:DAYLIGHT
BEGIN:STANDARD
TZOFFSETFROM:+0200
TZOFFSETTO:+0100
TZNAME:CET
DTSTART:20281029T010000
END:STANDARD
BEGIN:DAYLIGHT
TZOFFSETFROM:+0100
TZOFFSETTO:+0200
TZNAME:CEST
DTSTART:20290325T010000
END:DAYLIGHT
BEGIN:STANDARD
TZOFFSETFROM:+0200
TZOFFSETTO:+0100
TZNAME:CET
DTSTART:20291028T010000
END:STANDARD
END:VTIMEZONE
BEGIN:VEVENT
DTSTART;TZID=Europe/Berlin:20280713T153000
DTEND;TZID=Europe/Berlin:20280713T170000
DTSTAMP:20260425T191107
CREATED:20250104T102534Z
LAST-MODIFIED:20250206T082535Z
UID:10004363-1847115000-1847120400@www.tsv-destedt.de
SUMMARY:Leichtathletik Kids
DESCRIPTION:Leichtathletik-Kids
URL:https://www.tsv-destedt.de/event/leichtathletik-kids-2/2028-07-13/
LOCATION:Sporthalle Destedt\, Ohestraße 1\, Cremlingen\, Nieder#\, 38162\, Germany
CATEGORIES:Leichtathletik
ATTACH;FMTTYPE=image/jpeg:https://www.tsv-destedt.de/wp-content/uploads/2024/10/DSC01850-scaled.jpg
ORGANIZER;CN="TSV Destedt":MAILTO:info@tsv-destedt.de
END:VEVENT
BEGIN:VEVENT
DTSTART;TZID=Europe/Berlin:20280713T163000
DTEND;TZID=Europe/Berlin:20280713T181500
DTSTAMP:20260425T191107
CREATED:20250104T102658Z
LAST-MODIFIED:20250115T085520Z
UID:10006456-1847118600-1847124900@www.tsv-destedt.de
SUMMARY:Dancekids Training
DESCRIPTION:Dance Kids
URL:https://www.tsv-destedt.de/event/dancekids-training/2028-07-13/
LOCATION:Sporthalle Destedt\, Ohestraße 1\, Cremlingen\, Nieder#\, 38162\, Germany
CATEGORIES:Dancekids
ATTACH;FMTTYPE=image/png:https://www.tsv-destedt.de/wp-content/uploads/2024/08/Bild_2024-08-17_114111444.png
ORGANIZER;CN="TSV Destedt":MAILTO:info@tsv-destedt.de
END:VEVENT
BEGIN:VEVENT
DTSTART;TZID=Europe/Berlin:20280713T183000
DTEND;TZID=Europe/Berlin:20280713T203000
DTSTAMP:20260425T191107
CREATED:20250104T102238Z
LAST-MODIFIED:20250104T105051Z
UID:10003503-1847125800-1847133000@www.tsv-destedt.de
SUMMARY:Fußball: Training 1. Herren
DESCRIPTION:
URL:https://www.tsv-destedt.de/event/fussball-training-1-herren/2028-07-13/
LOCATION:Sportplatz TSV Destedt\, Ohestraße 1\, Cremlingen\, Niedersachsen\, 38162\, Germany
CATEGORIES:Fußball
ATTACH;FMTTYPE=image/jpeg:https://www.tsv-destedt.de/wp-content/uploads/2025/01/soccer-933037_640_rKSk.jpg
ORGANIZER;CN="TSV Destedt":MAILTO:info@tsv-destedt.de
END:VEVENT
BEGIN:VEVENT
DTSTART;TZID=Europe/Berlin:20280713T190000
DTEND;TZID=Europe/Berlin:20280713T210000
DTSTAMP:20260425T191107
CREATED:20250412T070116Z
LAST-MODIFIED:20250412T070117Z
UID:10008090-1847127600-1847134800@www.tsv-destedt.de
SUMMARY:Tanzgarde Training
DESCRIPTION:
URL:https://www.tsv-destedt.de/event/tanzgarde-training-2/2028-07-13/
LOCATION:Sporthalle Destedt\, Ohestraße 1\, Cremlingen\, Nieder#\, 38162\, Germany
CATEGORIES:Tanzgarde
ATTACH;FMTTYPE=image/jpeg:https://www.tsv-destedt.de/wp-content/uploads/2025/01/Lippelt.jpeg
ORGANIZER;CN="TSV Destedt":MAILTO:info@tsv-destedt.de
END:VEVENT
BEGIN:VEVENT
DTSTART;TZID=Europe/Berlin:20280714T163000
DTEND;TZID=Europe/Berlin:20280714T183000
DTSTAMP:20260425T191107
CREATED:20250425T060909Z
LAST-MODIFIED:20251010T132207Z
UID:10004886-1847205000-1847212200@www.tsv-destedt.de
SUMMARY:Fußball Jugend Training
DESCRIPTION:
URL:https://www.tsv-destedt.de/event/fussball-jugend-training-3/2028-07-14/
LOCATION:Sportplatz TSV Destedt\, Ohestraße 1\, Cremlingen\, Niedersachsen\, 38162\, Germany
CATEGORIES:Fußball
ATTACH;FMTTYPE=image/jpeg:https://www.tsv-destedt.de/wp-content/uploads/2025/01/soccer-933037_640_rKSk.jpg
ORGANIZER;CN="TSV Destedt":MAILTO:info@tsv-destedt.de
END:VEVENT
BEGIN:VEVENT
DTSTART;TZID=Europe/Berlin:20280714T200000
DTEND;TZID=Europe/Berlin:20280714T220000
DTSTAMP:20260425T191107
CREATED:20250104T103132Z
LAST-MODIFIED:20250115T084303Z
UID:10005148-1847217600-1847224800@www.tsv-destedt.de
SUMMARY:Basketball Training
DESCRIPTION:Basketball
URL:https://www.tsv-destedt.de/event/basketball-training/2028-07-14/
LOCATION:Sporthalle Destedt\, Ohestraße 1\, Cremlingen\, Nieder#\, 38162\, Germany
CATEGORIES:Basketball
ATTACH;FMTTYPE=image/jpeg:https://www.tsv-destedt.de/wp-content/uploads/2025/01/basketball-7121617_640_1vVb.jpg
ORGANIZER;CN="TSV Destedt":MAILTO:info@tsv-destedt.de
END:VEVENT
BEGIN:VEVENT
DTSTART;TZID=Europe/Berlin:20280715T093000
DTEND;TZID=Europe/Berlin:20280715T123000
DTSTAMP:20260425T191107
CREATED:20250325T065208Z
LAST-MODIFIED:20250403T101957Z
UID:10005671-1847266200-1847277000@www.tsv-destedt.de
SUMMARY:Leichtathletik Kids
DESCRIPTION:Leichtathletik-Kids
URL:https://www.tsv-destedt.de/event/leichtathletik-kids-4/2028-07-15/
LOCATION:Sporthalle Destedt\, Ohestraße 1\, Cremlingen\, Nieder#\, 38162\, Germany
CATEGORIES:Leichtathletik
ATTACH;FMTTYPE=image/jpeg:https://www.tsv-destedt.de/wp-content/uploads/2024/10/DSC01850-scaled.jpg
END:VEVENT
BEGIN:VEVENT
DTSTART;TZID=Europe/Berlin:20280716T110000
DTEND;TZID=Europe/Berlin:20280716T130000
DTSTAMP:20260425T191107
CREATED:20250104T101116Z
LAST-MODIFIED:20251227T185219Z
UID:10001949-1847358000-1847365200@www.tsv-destedt.de
SUMMARY:Tischtennis
DESCRIPTION:
URL:https://www.tsv-destedt.de/event/tischtennis/2028-07-16/
LOCATION:Sporthalle Destedt\, Ohestraße 1\, Cremlingen\, Nieder#\, 38162\, Germany
CATEGORIES:Tischtennis
ATTACH;FMTTYPE=image/jpeg:https://www.tsv-destedt.de/wp-content/uploads/2024/11/sports-3097621_1920.jpg
END:VEVENT
BEGIN:VEVENT
DTSTART;TZID=Europe/Berlin:20280716T163000
DTEND;TZID=Europe/Berlin:20280716T190000
DTSTAMP:20260425T191107
CREATED:20251227T085658Z
LAST-MODIFIED:20251227T085700Z
UID:10001688-1847377800-1847386800@www.tsv-destedt.de
SUMMARY:Hobby Horsing
DESCRIPTION:Hobby Horsing
URL:https://www.tsv-destedt.de/event/hobby-horsing-2-8/2028-07-16/
LOCATION:Sporthalle Destedt\, Ohestraße 1\, Cremlingen\, Nieder#\, 38162\, Germany
CATEGORIES:Hobby Horsing
ATTACH;FMTTYPE=image/jpeg:https://www.tsv-destedt.de/wp-content/uploads/2024/08/c6c0aacd-832f-4783-b7c5-cfce7e9f8735.jpeg
ORGANIZER;CN="RuF Cremlingen und TSV Destedt":MAILTO:hobby-horsing@tsv-destedt.de
END:VEVENT
BEGIN:VEVENT
DTSTART;TZID=Europe/Berlin:20280717T160000
DTEND;TZID=Europe/Berlin:20280717T165500
DTSTAMP:20260425T191107
CREATED:20250104T101719Z
LAST-MODIFIED:20250518T095134Z
UID:10007074-1847462400-1847465700@www.tsv-destedt.de
SUMMARY:Eltern-/ Kindturnen
DESCRIPTION:Kinderturnen
URL:https://www.tsv-destedt.de/event/kinderturnen/2028-07-17/
LOCATION:Sporthalle Destedt\, Ohestraße 1\, Cremlingen\, Nieder#\, 38162\, Germany
CATEGORIES:Kinderturnen
ATTACH;FMTTYPE=image/jpeg:https://www.tsv-destedt.de/wp-content/uploads/2024/11/PHOTO-2024-10-29-13-07-42-1-e1731167738809.jpg
ORGANIZER;CN="TSV Destedt":MAILTO:info@tsv-destedt.de
END:VEVENT
BEGIN:VEVENT
DTSTART;TZID=Europe/Berlin:20280717T181500
DTEND;TZID=Europe/Berlin:20280717T200000
DTSTAMP:20260425T191107
CREATED:20251212T074801Z
LAST-MODIFIED:20251212T074946Z
UID:10009338-1847470500-1847476800@www.tsv-destedt.de
SUMMARY:Volleyball Jugend Training
DESCRIPTION:
URL:https://www.tsv-destedt.de/event/volleyball-jugend-training-2/2028-07-17/
LOCATION:Sporthalle Destedt\, Ohestraße 1\, Cremlingen\, Nieder#\, 38162\, Germany
CATEGORIES:Volleyball
ATTACH;FMTTYPE=image/jpeg:https://www.tsv-destedt.de/wp-content/uploads/2025/01/ball-1930192_640_8aiz.jpg
ORGANIZER;CN="TSV Destedt":MAILTO:info@tsv-destedt.de
END:VEVENT
BEGIN:VEVENT
DTSTART;TZID=Europe/Berlin:20280717T190000
DTEND;TZID=Europe/Berlin:20280717T201500
DTSTAMP:20260425T191107
CREATED:20251108T164305Z
LAST-MODIFIED:20251108T164305Z
UID:10009074-1847473200-1847477700@www.tsv-destedt.de
SUMMARY:Fußball: Alte Herren (Ü40) Training
DESCRIPTION:
URL:https://www.tsv-destedt.de/event/fussball-alte-herren-ue40-training/2028-07-17/
LOCATION:Sportplatz TSV Destedt\, Ohestraße 1\, Cremlingen\, Niedersachsen\, 38162\, Germany
CATEGORIES:Fußball
ATTACH;FMTTYPE=image/jpeg:https://www.tsv-destedt.de/wp-content/uploads/2025/01/soccer-933037_640_rKSk.jpg
ORGANIZER;CN="TSV Destedt":MAILTO:info@tsv-destedt.de
END:VEVENT
BEGIN:VEVENT
DTSTART;TZID=Europe/Berlin:20280717T200000
DTEND;TZID=Europe/Berlin:20280717T213000
DTSTAMP:20260425T191107
CREATED:20250104T102036Z
LAST-MODIFIED:20250104T105140Z
UID:10002798-1847476800-1847482200@www.tsv-destedt.de
SUMMARY:Volleyball Damen Training
DESCRIPTION:
URL:https://www.tsv-destedt.de/event/volleyball-damen-training/2028-07-17/
LOCATION:Sporthalle Destedt\, Ohestraße 1\, Cremlingen\, Nieder#\, 38162\, Germany
CATEGORIES:Volleyball
ATTACH;FMTTYPE=image/jpeg:https://www.tsv-destedt.de/wp-content/uploads/2025/01/ball-1930192_640_8aiz.jpg
ORGANIZER;CN="TSV Destedt":MAILTO:info@tsv-destedt.de
END:VEVENT
BEGIN:VEVENT
DTSTART;TZID=Europe/Berlin:20280718T183000
DTEND;TZID=Europe/Berlin:20280718T200000
DTSTAMP:20260425T191107
CREATED:20250104T112429Z
LAST-MODIFIED:20250107T143518Z
UID:10006781-1847557800-1847563200@www.tsv-destedt.de
SUMMARY:Volleyball Mixed Training
DESCRIPTION:
URL:https://www.tsv-destedt.de/event/volleyball-mixed-training/2028-07-18/
LOCATION:Sporthalle Destedt\, Ohestraße 1\, Cremlingen\, Nieder#\, 38162\, Germany
CATEGORIES:Volleyball
ATTACH;FMTTYPE=image/jpeg:https://www.tsv-destedt.de/wp-content/uploads/2025/01/ball-1930192_640_8aiz.jpg
ORGANIZER;CN="TSV Destedt":MAILTO:info@tsv-destedt.de
END:VEVENT
BEGIN:VEVENT
DTSTART;TZID=Europe/Berlin:20280718T183000
DTEND;TZID=Europe/Berlin:20280718T203000
DTSTAMP:20260425T191107
CREATED:20250104T102238Z
LAST-MODIFIED:20250104T105051Z
UID:10003504-1847557800-1847565000@www.tsv-destedt.de
SUMMARY:Fußball: Training 1. Herren
DESCRIPTION:
URL:https://www.tsv-destedt.de/event/fussball-training-1-herren/2028-07-18/
LOCATION:Sportplatz TSV Destedt\, Ohestraße 1\, Cremlingen\, Niedersachsen\, 38162\, Germany
CATEGORIES:Fußball
ATTACH;FMTTYPE=image/jpeg:https://www.tsv-destedt.de/wp-content/uploads/2025/01/soccer-933037_640_rKSk.jpg
ORGANIZER;CN="TSV Destedt":MAILTO:info@tsv-destedt.de
END:VEVENT
BEGIN:VEVENT
DTSTART;TZID=Europe/Berlin:20280718T190000
DTEND;TZID=Europe/Berlin:20280718T201500
DTSTAMP:20260425T191107
CREATED:20250104T102325Z
LAST-MODIFIED:20250104T105023Z
UID:10003842-1847559600-1847564100@www.tsv-destedt.de
SUMMARY:Fußball: Alte Herren (Ü32) Training
DESCRIPTION:
URL:https://www.tsv-destedt.de/event/fussball-alte-herren-ue32-training/2028-07-18/
LOCATION:Sportplatz TSV Destedt\, Ohestraße 1\, Cremlingen\, Niedersachsen\, 38162\, Germany
CATEGORIES:Fußball
ATTACH;FMTTYPE=image/jpeg:https://www.tsv-destedt.de/wp-content/uploads/2025/01/soccer-933037_640_rKSk.jpg
ORGANIZER;CN="TSV Destedt":MAILTO:info@tsv-destedt.de
END:VEVENT
BEGIN:VEVENT
DTSTART;TZID=Europe/Berlin:20280718T203000
DTEND;TZID=Europe/Berlin:20280718T220000
DTSTAMP:20260425T191107
CREATED:20250104T102136Z
LAST-MODIFIED:20250115T085251Z
UID:10003059-1847565000-1847570400@www.tsv-destedt.de
SUMMARY:Ball über die Schnur
DESCRIPTION:Ball über die Schnur
URL:https://www.tsv-destedt.de/event/ball-ueber-die-schnur/2028-07-18/
LOCATION:Sporthalle Destedt\, Ohestraße 1\, Cremlingen\, Nieder#\, 38162\, Germany
CATEGORIES:Ball über die Schnur
ORGANIZER;CN="TSV Destedt":MAILTO:info@tsv-destedt.de
END:VEVENT
BEGIN:VEVENT
DTSTART;TZID=Europe/Berlin:20280719T190000
DTEND;TZID=Europe/Berlin:20280719T200000
DTSTAMP:20260425T191107
CREATED:20250104T102424Z
LAST-MODIFIED:20250404T111348Z
UID:10007787-1847646000-1847649600@www.tsv-destedt.de
SUMMARY:Bodyfit Training
DESCRIPTION:Bodyfit
URL:https://www.tsv-destedt.de/event/bodyfit-training/2028-07-19/
LOCATION:Sporthalle Destedt\, Ohestraße 1\, Cremlingen\, Nieder#\, 38162\, Germany
CATEGORIES:Bodyfit
ATTACH;FMTTYPE=image/jpeg:https://www.tsv-destedt.de/wp-content/uploads/2025/01/dumbbells-2465478_640_ZRpa.jpg
ORGANIZER;CN="TSV Destedt":MAILTO:info@tsv-destedt.de
END:VEVENT
BEGIN:VEVENT
DTSTART;TZID=Europe/Berlin:20280720T153000
DTEND;TZID=Europe/Berlin:20280720T170000
DTSTAMP:20260425T191107
CREATED:20250104T102534Z
LAST-MODIFIED:20250206T082535Z
UID:10004364-1847719800-1847725200@www.tsv-destedt.de
SUMMARY:Leichtathletik Kids
DESCRIPTION:Leichtathletik-Kids
URL:https://www.tsv-destedt.de/event/leichtathletik-kids-2/2028-07-20/
LOCATION:Sporthalle Destedt\, Ohestraße 1\, Cremlingen\, Nieder#\, 38162\, Germany
CATEGORIES:Leichtathletik
ATTACH;FMTTYPE=image/jpeg:https://www.tsv-destedt.de/wp-content/uploads/2024/10/DSC01850-scaled.jpg
ORGANIZER;CN="TSV Destedt":MAILTO:info@tsv-destedt.de
END:VEVENT
BEGIN:VEVENT
DTSTART;TZID=Europe/Berlin:20280720T163000
DTEND;TZID=Europe/Berlin:20280720T181500
DTSTAMP:20260425T191107
CREATED:20250104T102658Z
LAST-MODIFIED:20250115T085520Z
UID:10006457-1847723400-1847729700@www.tsv-destedt.de
SUMMARY:Dancekids Training
DESCRIPTION:Dance Kids
URL:https://www.tsv-destedt.de/event/dancekids-training/2028-07-20/
LOCATION:Sporthalle Destedt\, Ohestraße 1\, Cremlingen\, Nieder#\, 38162\, Germany
CATEGORIES:Dancekids
ATTACH;FMTTYPE=image/png:https://www.tsv-destedt.de/wp-content/uploads/2024/08/Bild_2024-08-17_114111444.png
ORGANIZER;CN="TSV Destedt":MAILTO:info@tsv-destedt.de
END:VEVENT
BEGIN:VEVENT
DTSTART;TZID=Europe/Berlin:20280720T183000
DTEND;TZID=Europe/Berlin:20280720T203000
DTSTAMP:20260425T191107
CREATED:20250104T102238Z
LAST-MODIFIED:20250104T105051Z
UID:10003505-1847730600-1847737800@www.tsv-destedt.de
SUMMARY:Fußball: Training 1. Herren
DESCRIPTION:
URL:https://www.tsv-destedt.de/event/fussball-training-1-herren/2028-07-20/
LOCATION:Sportplatz TSV Destedt\, Ohestraße 1\, Cremlingen\, Niedersachsen\, 38162\, Germany
CATEGORIES:Fußball
ATTACH;FMTTYPE=image/jpeg:https://www.tsv-destedt.de/wp-content/uploads/2025/01/soccer-933037_640_rKSk.jpg
ORGANIZER;CN="TSV Destedt":MAILTO:info@tsv-destedt.de
END:VEVENT
BEGIN:VEVENT
DTSTART;TZID=Europe/Berlin:20280720T190000
DTEND;TZID=Europe/Berlin:20280720T210000
DTSTAMP:20260425T191107
CREATED:20250412T070116Z
LAST-MODIFIED:20250412T070117Z
UID:10008091-1847732400-1847739600@www.tsv-destedt.de
SUMMARY:Tanzgarde Training
DESCRIPTION:
URL:https://www.tsv-destedt.de/event/tanzgarde-training-2/2028-07-20/
LOCATION:Sporthalle Destedt\, Ohestraße 1\, Cremlingen\, Nieder#\, 38162\, Germany
CATEGORIES:Tanzgarde
ATTACH;FMTTYPE=image/jpeg:https://www.tsv-destedt.de/wp-content/uploads/2025/01/Lippelt.jpeg
ORGANIZER;CN="TSV Destedt":MAILTO:info@tsv-destedt.de
END:VEVENT
BEGIN:VEVENT
DTSTART;TZID=Europe/Berlin:20280721T163000
DTEND;TZID=Europe/Berlin:20280721T183000
DTSTAMP:20260425T191107
CREATED:20250425T060909Z
LAST-MODIFIED:20251010T132207Z
UID:10004887-1847809800-1847817000@www.tsv-destedt.de
SUMMARY:Fußball Jugend Training
DESCRIPTION:
URL:https://www.tsv-destedt.de/event/fussball-jugend-training-3/2028-07-21/
LOCATION:Sportplatz TSV Destedt\, Ohestraße 1\, Cremlingen\, Niedersachsen\, 38162\, Germany
CATEGORIES:Fußball
ATTACH;FMTTYPE=image/jpeg:https://www.tsv-destedt.de/wp-content/uploads/2025/01/soccer-933037_640_rKSk.jpg
ORGANIZER;CN="TSV Destedt":MAILTO:info@tsv-destedt.de
END:VEVENT
BEGIN:VEVENT
DTSTART;TZID=Europe/Berlin:20280721T200000
DTEND;TZID=Europe/Berlin:20280721T220000
DTSTAMP:20260425T191107
CREATED:20250104T103132Z
LAST-MODIFIED:20250115T084303Z
UID:10005149-1847822400-1847829600@www.tsv-destedt.de
SUMMARY:Basketball Training
DESCRIPTION:Basketball
URL:https://www.tsv-destedt.de/event/basketball-training/2028-07-21/
LOCATION:Sporthalle Destedt\, Ohestraße 1\, Cremlingen\, Nieder#\, 38162\, Germany
CATEGORIES:Basketball
ATTACH;FMTTYPE=image/jpeg:https://www.tsv-destedt.de/wp-content/uploads/2025/01/basketball-7121617_640_1vVb.jpg
ORGANIZER;CN="TSV Destedt":MAILTO:info@tsv-destedt.de
END:VEVENT
BEGIN:VEVENT
DTSTART;TZID=Europe/Berlin:20280722T093000
DTEND;TZID=Europe/Berlin:20280722T123000
DTSTAMP:20260425T191107
CREATED:20250325T065208Z
LAST-MODIFIED:20250403T101957Z
UID:10005672-1847871000-1847881800@www.tsv-destedt.de
SUMMARY:Leichtathletik Kids
DESCRIPTION:Leichtathletik-Kids
URL:https://www.tsv-destedt.de/event/leichtathletik-kids-4/2028-07-22/
LOCATION:Sporthalle Destedt\, Ohestraße 1\, Cremlingen\, Nieder#\, 38162\, Germany
CATEGORIES:Leichtathletik
ATTACH;FMTTYPE=image/jpeg:https://www.tsv-destedt.de/wp-content/uploads/2024/10/DSC01850-scaled.jpg
END:VEVENT
BEGIN:VEVENT
DTSTART;TZID=Europe/Berlin:20280723T110000
DTEND;TZID=Europe/Berlin:20280723T130000
DTSTAMP:20260425T191107
CREATED:20250104T101116Z
LAST-MODIFIED:20251227T185219Z
UID:10001950-1847962800-1847970000@www.tsv-destedt.de
SUMMARY:Tischtennis
DESCRIPTION:
URL:https://www.tsv-destedt.de/event/tischtennis/2028-07-23/
LOCATION:Sporthalle Destedt\, Ohestraße 1\, Cremlingen\, Nieder#\, 38162\, Germany
CATEGORIES:Tischtennis
ATTACH;FMTTYPE=image/jpeg:https://www.tsv-destedt.de/wp-content/uploads/2024/11/sports-3097621_1920.jpg
END:VEVENT
BEGIN:VEVENT
DTSTART;TZID=Europe/Berlin:20280723T163000
DTEND;TZID=Europe/Berlin:20280723T190000
DTSTAMP:20260425T191107
CREATED:20251227T085658Z
LAST-MODIFIED:20251227T085700Z
UID:10001689-1847982600-1847991600@www.tsv-destedt.de
SUMMARY:Hobby Horsing
DESCRIPTION:Hobby Horsing
URL:https://www.tsv-destedt.de/event/hobby-horsing-2-8/2028-07-23/
LOCATION:Sporthalle Destedt\, Ohestraße 1\, Cremlingen\, Nieder#\, 38162\, Germany
CATEGORIES:Hobby Horsing
ATTACH;FMTTYPE=image/jpeg:https://www.tsv-destedt.de/wp-content/uploads/2024/08/c6c0aacd-832f-4783-b7c5-cfce7e9f8735.jpeg
ORGANIZER;CN="RuF Cremlingen und TSV Destedt":MAILTO:hobby-horsing@tsv-destedt.de
END:VEVENT
BEGIN:VEVENT
DTSTART;TZID=Europe/Berlin:20280724T160000
DTEND;TZID=Europe/Berlin:20280724T165500
DTSTAMP:20260425T191107
CREATED:20250104T101719Z
LAST-MODIFIED:20250518T095134Z
UID:10007075-1848067200-1848070500@www.tsv-destedt.de
SUMMARY:Eltern-/ Kindturnen
DESCRIPTION:Kinderturnen
URL:https://www.tsv-destedt.de/event/kinderturnen/2028-07-24/
LOCATION:Sporthalle Destedt\, Ohestraße 1\, Cremlingen\, Nieder#\, 38162\, Germany
CATEGORIES:Kinderturnen
ATTACH;FMTTYPE=image/jpeg:https://www.tsv-destedt.de/wp-content/uploads/2024/11/PHOTO-2024-10-29-13-07-42-1-e1731167738809.jpg
ORGANIZER;CN="TSV Destedt":MAILTO:info@tsv-destedt.de
END:VEVENT
BEGIN:VEVENT
DTSTART;TZID=Europe/Berlin:20280724T181500
DTEND;TZID=Europe/Berlin:20280724T200000
DTSTAMP:20260425T191107
CREATED:20251212T074801Z
LAST-MODIFIED:20251212T074946Z
UID:10009339-1848075300-1848081600@www.tsv-destedt.de
SUMMARY:Volleyball Jugend Training
DESCRIPTION:
URL:https://www.tsv-destedt.de/event/volleyball-jugend-training-2/2028-07-24/
LOCATION:Sporthalle Destedt\, Ohestraße 1\, Cremlingen\, Nieder#\, 38162\, Germany
CATEGORIES:Volleyball
ATTACH;FMTTYPE=image/jpeg:https://www.tsv-destedt.de/wp-content/uploads/2025/01/ball-1930192_640_8aiz.jpg
ORGANIZER;CN="TSV Destedt":MAILTO:info@tsv-destedt.de
END:VEVENT
BEGIN:VEVENT
DTSTART;TZID=Europe/Berlin:20280724T190000
DTEND;TZID=Europe/Berlin:20280724T201500
DTSTAMP:20260425T191107
CREATED:20251108T164305Z
LAST-MODIFIED:20251108T164305Z
UID:10009075-1848078000-1848082500@www.tsv-destedt.de
SUMMARY:Fußball: Alte Herren (Ü40) Training
DESCRIPTION:
URL:https://www.tsv-destedt.de/event/fussball-alte-herren-ue40-training/2028-07-24/
LOCATION:Sportplatz TSV Destedt\, Ohestraße 1\, Cremlingen\, Niedersachsen\, 38162\, Germany
CATEGORIES:Fußball
ATTACH;FMTTYPE=image/jpeg:https://www.tsv-destedt.de/wp-content/uploads/2025/01/soccer-933037_640_rKSk.jpg
ORGANIZER;CN="TSV Destedt":MAILTO:info@tsv-destedt.de
END:VEVENT
END:VCALENDAR