BEGIN:VCALENDAR
VERSION:2.0
PRODID:-//TSV Destedt - ECPv6.15.20//NONSGML v1.0//EN
CALSCALE:GREGORIAN
METHOD:PUBLISH
X-ORIGINAL-URL:https://www.tsv-destedt.de
X-WR-CALDESC:Veranstaltungen für TSV Destedt
REFRESH-INTERVAL;VALUE=DURATION:PT1H
X-Robots-Tag:noindex
X-PUBLISHED-TTL:PT1H
BEGIN:VTIMEZONE
TZID:Europe/Berlin
BEGIN:DAYLIGHT
TZOFFSETFROM:+0100
TZOFFSETTO:+0200
TZNAME:CEST
DTSTART:20250330T010000
END:DAYLIGHT
BEGIN:STANDARD
TZOFFSETFROM:+0200
TZOFFSETTO:+0100
TZNAME:CET
DTSTART:20251026T010000
END:STANDARD
BEGIN:DAYLIGHT
TZOFFSETFROM:+0100
TZOFFSETTO:+0200
TZNAME:CEST
DTSTART:20260329T010000
END:DAYLIGHT
BEGIN:STANDARD
TZOFFSETFROM:+0200
TZOFFSETTO:+0100
TZNAME:CET
DTSTART:20261025T010000
END:STANDARD
BEGIN:DAYLIGHT
TZOFFSETFROM:+0100
TZOFFSETTO:+0200
TZNAME:CEST
DTSTART:20270328T010000
END:DAYLIGHT
BEGIN:STANDARD
TZOFFSETFROM:+0200
TZOFFSETTO:+0100
TZNAME:CET
DTSTART:20271031T010000
END:STANDARD
END:VTIMEZONE
BEGIN:VEVENT
DTSTART;TZID=Europe/Berlin:20260411T093000
DTEND;TZID=Europe/Berlin:20260411T123000
DTSTAMP:20260420T011437
CREATED:20250325T065208Z
LAST-MODIFIED:20250403T101957Z
UID:10005553-1775899800-1775910600@www.tsv-destedt.de
SUMMARY:Leichtathletik Kids
DESCRIPTION:Leichtathletik-Kids
URL:https://www.tsv-destedt.de/event/leichtathletik-kids-4/2026-04-11/
LOCATION:Sporthalle Destedt\, Ohestraße 1\, Cremlingen\, Nieder#\, 38162\, Germany
CATEGORIES:Leichtathletik
ATTACH;FMTTYPE=image/jpeg:https://www.tsv-destedt.de/wp-content/uploads/2024/10/DSC01850-scaled.jpg
END:VEVENT
BEGIN:VEVENT
DTSTART;TZID=Europe/Berlin:20260411T100000
DTEND;TZID=Europe/Berlin:20260411T130000
DTSTAMP:20260420T011437
CREATED:20260329T130859Z
LAST-MODIFIED:20260331T085321Z
UID:10010271-1775901600-1775912400@www.tsv-destedt.de
SUMMARY:Arbeitseinsatz: Frühlingsputz Sportplatz
DESCRIPTION:Hallo lieber TSV\, \nwir beginnen das Jahr um unser Sportgelände wieder aus dem Winterschlaf zu wecken. Hierzu würden wir euch gerne einladen aktiv mit anzupacken. \n  \nEcke Richtung Schulstraße aufräumen\n\nz.B. Erdreste von den Pflasterarbeiten mit Trecker aufladen\n\nBeton-Borde zum Vereinsheim bringen\nTartanbahn / Gehweg Fegen\nVereinsheim Aufräumen\n  \nWir freuen uns auf euer zahlreiches Erscheinen. \n  \nViele Grüße euere Laura\, Bernhard\, Lars und Benjamin
URL:https://www.tsv-destedt.de/event/arbeitseinsatz-fruehlingsputz-sportplatz/
LOCATION:Vereinsheim TSV Destedt\, Ohestraße 5\, Cremlingen\, 38162\, Germany
CATEGORIES:Arbeitseinsätze
ATTACH;FMTTYPE=image/png:https://www.tsv-destedt.de/wp-content/uploads/2026/03/Fruehlingsputz.png
ORGANIZER;CN="TSV Destedt":MAILTO:info@tsv-destedt.de
END:VEVENT
END:VCALENDAR