BEGIN:VCALENDAR
VERSION:2.0
PRODID:-//TSV Destedt - ECPv6.15.20//NONSGML v1.0//EN
CALSCALE:GREGORIAN
METHOD:PUBLISH
X-WR-CALNAME:TSV Destedt
X-ORIGINAL-URL:https://www.tsv-destedt.de
X-WR-CALDESC:Veranstaltungen für TSV Destedt
REFRESH-INTERVAL;VALUE=DURATION:PT1H
X-Robots-Tag:noindex
X-PUBLISHED-TTL:PT1H
BEGIN:VTIMEZONE
TZID:Europe/Berlin
BEGIN:DAYLIGHT
TZOFFSETFROM:+0100
TZOFFSETTO:+0200
TZNAME:CEST
DTSTART:20270328T010000
END:DAYLIGHT
BEGIN:STANDARD
TZOFFSETFROM:+0200
TZOFFSETTO:+0100
TZNAME:CET
DTSTART:20271031T010000
END:STANDARD
BEGIN:DAYLIGHT
TZOFFSETFROM:+0100
TZOFFSETTO:+0200
TZNAME:CEST
DTSTART:20280326T010000
END:DAYLIGHT
BEGIN:STANDARD
TZOFFSETFROM:+0200
TZOFFSETTO:+0100
TZNAME:CET
DTSTART:20281029T010000
END:STANDARD
BEGIN:DAYLIGHT
TZOFFSETFROM:+0100
TZOFFSETTO:+0200
TZNAME:CEST
DTSTART:20290325T010000
END:DAYLIGHT
BEGIN:STANDARD
TZOFFSETFROM:+0200
TZOFFSETTO:+0100
TZNAME:CET
DTSTART:20291028T010000
END:STANDARD
END:VTIMEZONE
BEGIN:VEVENT
DTSTART;TZID=Europe/Berlin:20280324T200000
DTEND;TZID=Europe/Berlin:20280324T220000
DTSTAMP:20260419T212959
CREATED:20250104T103132Z
LAST-MODIFIED:20250115T084303Z
UID:10005132-1837540800-1837548000@www.tsv-destedt.de
SUMMARY:Basketball Training
DESCRIPTION:Basketball
URL:https://www.tsv-destedt.de/event/basketball-training/2028-03-24/
LOCATION:Sporthalle Destedt\, Ohestraße 1\, Cremlingen\, Nieder#\, 38162\, Germany
CATEGORIES:Basketball
ATTACH;FMTTYPE=image/jpeg:https://www.tsv-destedt.de/wp-content/uploads/2025/01/basketball-7121617_640_1vVb.jpg
ORGANIZER;CN="TSV Destedt":MAILTO:info@tsv-destedt.de
END:VEVENT
BEGIN:VEVENT
DTSTART;TZID=Europe/Berlin:20280325T093000
DTEND;TZID=Europe/Berlin:20280325T123000
DTSTAMP:20260419T212959
CREATED:20250325T065208Z
LAST-MODIFIED:20250403T101957Z
UID:10005655-1837589400-1837600200@www.tsv-destedt.de
SUMMARY:Leichtathletik Kids
DESCRIPTION:Leichtathletik-Kids
URL:https://www.tsv-destedt.de/event/leichtathletik-kids-4/2028-03-25/
LOCATION:Sporthalle Destedt\, Ohestraße 1\, Cremlingen\, Nieder#\, 38162\, Germany
CATEGORIES:Leichtathletik
ATTACH;FMTTYPE=image/jpeg:https://www.tsv-destedt.de/wp-content/uploads/2024/10/DSC01850-scaled.jpg
END:VEVENT
BEGIN:VEVENT
DTSTART;TZID=Europe/Berlin:20280326T110000
DTEND;TZID=Europe/Berlin:20280326T130000
DTSTAMP:20260419T212959
CREATED:20250104T101116Z
LAST-MODIFIED:20251227T185219Z
UID:10001933-1837681200-1837688400@www.tsv-destedt.de
SUMMARY:Tischtennis
DESCRIPTION:
URL:https://www.tsv-destedt.de/event/tischtennis/2028-03-26/
LOCATION:Sporthalle Destedt\, Ohestraße 1\, Cremlingen\, Nieder#\, 38162\, Germany
CATEGORIES:Tischtennis
ATTACH;FMTTYPE=image/jpeg:https://www.tsv-destedt.de/wp-content/uploads/2024/11/sports-3097621_1920.jpg
END:VEVENT
BEGIN:VEVENT
DTSTART;TZID=Europe/Berlin:20280326T163000
DTEND;TZID=Europe/Berlin:20280326T190000
DTSTAMP:20260419T212959
CREATED:20251227T085658Z
LAST-MODIFIED:20251227T085700Z
UID:10001672-1837701000-1837710000@www.tsv-destedt.de
SUMMARY:Hobby Horsing
DESCRIPTION:Hobby Horsing
URL:https://www.tsv-destedt.de/event/hobby-horsing-2-8/2028-03-26/
LOCATION:Sporthalle Destedt\, Ohestraße 1\, Cremlingen\, Nieder#\, 38162\, Germany
CATEGORIES:Hobby Horsing
ATTACH;FMTTYPE=image/jpeg:https://www.tsv-destedt.de/wp-content/uploads/2024/08/c6c0aacd-832f-4783-b7c5-cfce7e9f8735.jpeg
ORGANIZER;CN="RuF Cremlingen und TSV Destedt":MAILTO:hobby-horsing@tsv-destedt.de
END:VEVENT
BEGIN:VEVENT
DTSTART;TZID=Europe/Berlin:20280327T160000
DTEND;TZID=Europe/Berlin:20280327T165500
DTSTAMP:20260419T212959
CREATED:20250104T101719Z
LAST-MODIFIED:20250518T095134Z
UID:10007058-1837785600-1837788900@www.tsv-destedt.de
SUMMARY:Eltern-/ Kindturnen
DESCRIPTION:Kinderturnen
URL:https://www.tsv-destedt.de/event/kinderturnen/2028-03-27/
LOCATION:Sporthalle Destedt\, Ohestraße 1\, Cremlingen\, Nieder#\, 38162\, Germany
CATEGORIES:Kinderturnen
ATTACH;FMTTYPE=image/jpeg:https://www.tsv-destedt.de/wp-content/uploads/2024/11/PHOTO-2024-10-29-13-07-42-1-e1731167738809.jpg
ORGANIZER;CN="TSV Destedt":MAILTO:info@tsv-destedt.de
END:VEVENT
BEGIN:VEVENT
DTSTART;TZID=Europe/Berlin:20280327T181500
DTEND;TZID=Europe/Berlin:20280327T200000
DTSTAMP:20260419T212959
CREATED:20251212T074801Z
LAST-MODIFIED:20251212T074946Z
UID:10009322-1837793700-1837800000@www.tsv-destedt.de
SUMMARY:Volleyball Jugend Training
DESCRIPTION:
URL:https://www.tsv-destedt.de/event/volleyball-jugend-training-2/2028-03-27/
LOCATION:Sporthalle Destedt\, Ohestraße 1\, Cremlingen\, Nieder#\, 38162\, Germany
CATEGORIES:Volleyball
ATTACH;FMTTYPE=image/jpeg:https://www.tsv-destedt.de/wp-content/uploads/2025/01/ball-1930192_640_8aiz.jpg
ORGANIZER;CN="TSV Destedt":MAILTO:info@tsv-destedt.de
END:VEVENT
BEGIN:VEVENT
DTSTART;TZID=Europe/Berlin:20280327T190000
DTEND;TZID=Europe/Berlin:20280327T201500
DTSTAMP:20260419T212959
CREATED:20251108T164305Z
LAST-MODIFIED:20251108T164305Z
UID:10009058-1837796400-1837800900@www.tsv-destedt.de
SUMMARY:Fußball: Alte Herren (Ü40) Training
DESCRIPTION:
URL:https://www.tsv-destedt.de/event/fussball-alte-herren-ue40-training/2028-03-27/
LOCATION:Sportplatz TSV Destedt\, Ohestraße 1\, Cremlingen\, Niedersachsen\, 38162\, Germany
CATEGORIES:Fußball
ATTACH;FMTTYPE=image/jpeg:https://www.tsv-destedt.de/wp-content/uploads/2025/01/soccer-933037_640_rKSk.jpg
ORGANIZER;CN="TSV Destedt":MAILTO:info@tsv-destedt.de
END:VEVENT
BEGIN:VEVENT
DTSTART;TZID=Europe/Berlin:20280327T200000
DTEND;TZID=Europe/Berlin:20280327T213000
DTSTAMP:20260419T212959
CREATED:20250104T102036Z
LAST-MODIFIED:20250104T105140Z
UID:10002782-1837800000-1837805400@www.tsv-destedt.de
SUMMARY:Volleyball Damen Training
DESCRIPTION:
URL:https://www.tsv-destedt.de/event/volleyball-damen-training/2028-03-27/
LOCATION:Sporthalle Destedt\, Ohestraße 1\, Cremlingen\, Nieder#\, 38162\, Germany
CATEGORIES:Volleyball
ATTACH;FMTTYPE=image/jpeg:https://www.tsv-destedt.de/wp-content/uploads/2025/01/ball-1930192_640_8aiz.jpg
ORGANIZER;CN="TSV Destedt":MAILTO:info@tsv-destedt.de
END:VEVENT
BEGIN:VEVENT
DTSTART;TZID=Europe/Berlin:20280328T183000
DTEND;TZID=Europe/Berlin:20280328T200000
DTSTAMP:20260419T212959
CREATED:20250104T112429Z
LAST-MODIFIED:20250107T143518Z
UID:10006765-1837881000-1837886400@www.tsv-destedt.de
SUMMARY:Volleyball Mixed Training
DESCRIPTION:
URL:https://www.tsv-destedt.de/event/volleyball-mixed-training/2028-03-28/
LOCATION:Sporthalle Destedt\, Ohestraße 1\, Cremlingen\, Nieder#\, 38162\, Germany
CATEGORIES:Volleyball
ATTACH;FMTTYPE=image/jpeg:https://www.tsv-destedt.de/wp-content/uploads/2025/01/ball-1930192_640_8aiz.jpg
ORGANIZER;CN="TSV Destedt":MAILTO:info@tsv-destedt.de
END:VEVENT
BEGIN:VEVENT
DTSTART;TZID=Europe/Berlin:20280328T183000
DTEND;TZID=Europe/Berlin:20280328T203000
DTSTAMP:20260419T212959
CREATED:20250104T102238Z
LAST-MODIFIED:20250104T105051Z
UID:10003472-1837881000-1837888200@www.tsv-destedt.de
SUMMARY:Fußball: Training 1. Herren
DESCRIPTION:
URL:https://www.tsv-destedt.de/event/fussball-training-1-herren/2028-03-28/
LOCATION:Sportplatz TSV Destedt\, Ohestraße 1\, Cremlingen\, Niedersachsen\, 38162\, Germany
CATEGORIES:Fußball
ATTACH;FMTTYPE=image/jpeg:https://www.tsv-destedt.de/wp-content/uploads/2025/01/soccer-933037_640_rKSk.jpg
ORGANIZER;CN="TSV Destedt":MAILTO:info@tsv-destedt.de
END:VEVENT
BEGIN:VEVENT
DTSTART;TZID=Europe/Berlin:20280328T190000
DTEND;TZID=Europe/Berlin:20280328T201500
DTSTAMP:20260419T212959
CREATED:20250104T102325Z
LAST-MODIFIED:20250104T105023Z
UID:10003826-1837882800-1837887300@www.tsv-destedt.de
SUMMARY:Fußball: Alte Herren (Ü32) Training
DESCRIPTION:
URL:https://www.tsv-destedt.de/event/fussball-alte-herren-ue32-training/2028-03-28/
LOCATION:Sportplatz TSV Destedt\, Ohestraße 1\, Cremlingen\, Niedersachsen\, 38162\, Germany
CATEGORIES:Fußball
ATTACH;FMTTYPE=image/jpeg:https://www.tsv-destedt.de/wp-content/uploads/2025/01/soccer-933037_640_rKSk.jpg
ORGANIZER;CN="TSV Destedt":MAILTO:info@tsv-destedt.de
END:VEVENT
BEGIN:VEVENT
DTSTART;TZID=Europe/Berlin:20280328T203000
DTEND;TZID=Europe/Berlin:20280328T220000
DTSTAMP:20260419T212959
CREATED:20250104T102136Z
LAST-MODIFIED:20250115T085251Z
UID:10003043-1837888200-1837893600@www.tsv-destedt.de
SUMMARY:Ball über die Schnur
DESCRIPTION:Ball über die Schnur
URL:https://www.tsv-destedt.de/event/ball-ueber-die-schnur/2028-03-28/
LOCATION:Sporthalle Destedt\, Ohestraße 1\, Cremlingen\, Nieder#\, 38162\, Germany
CATEGORIES:Ball über die Schnur
ORGANIZER;CN="TSV Destedt":MAILTO:info@tsv-destedt.de
END:VEVENT
BEGIN:VEVENT
DTSTART;TZID=Europe/Berlin:20280329T190000
DTEND;TZID=Europe/Berlin:20280329T200000
DTSTAMP:20260419T212959
CREATED:20250104T102424Z
LAST-MODIFIED:20250404T111348Z
UID:10007771-1837969200-1837972800@www.tsv-destedt.de
SUMMARY:Bodyfit Training
DESCRIPTION:Bodyfit
URL:https://www.tsv-destedt.de/event/bodyfit-training/2028-03-29/
LOCATION:Sporthalle Destedt\, Ohestraße 1\, Cremlingen\, Nieder#\, 38162\, Germany
CATEGORIES:Bodyfit
ATTACH;FMTTYPE=image/jpeg:https://www.tsv-destedt.de/wp-content/uploads/2025/01/dumbbells-2465478_640_ZRpa.jpg
ORGANIZER;CN="TSV Destedt":MAILTO:info@tsv-destedt.de
END:VEVENT
BEGIN:VEVENT
DTSTART;TZID=Europe/Berlin:20280330T153000
DTEND;TZID=Europe/Berlin:20280330T170000
DTSTAMP:20260419T212959
CREATED:20250104T102534Z
LAST-MODIFIED:20250206T082535Z
UID:10004348-1838043000-1838048400@www.tsv-destedt.de
SUMMARY:Leichtathletik Kids
DESCRIPTION:Leichtathletik-Kids
URL:https://www.tsv-destedt.de/event/leichtathletik-kids-2/2028-03-30/
LOCATION:Sporthalle Destedt\, Ohestraße 1\, Cremlingen\, Nieder#\, 38162\, Germany
CATEGORIES:Leichtathletik
ATTACH;FMTTYPE=image/jpeg:https://www.tsv-destedt.de/wp-content/uploads/2024/10/DSC01850-scaled.jpg
ORGANIZER;CN="TSV Destedt":MAILTO:info@tsv-destedt.de
END:VEVENT
BEGIN:VEVENT
DTSTART;TZID=Europe/Berlin:20280330T163000
DTEND;TZID=Europe/Berlin:20280330T181500
DTSTAMP:20260419T212959
CREATED:20250104T102658Z
LAST-MODIFIED:20250115T085520Z
UID:10006441-1838046600-1838052900@www.tsv-destedt.de
SUMMARY:Dancekids Training
DESCRIPTION:Dance Kids
URL:https://www.tsv-destedt.de/event/dancekids-training/2028-03-30/
LOCATION:Sporthalle Destedt\, Ohestraße 1\, Cremlingen\, Nieder#\, 38162\, Germany
CATEGORIES:Dancekids
ATTACH;FMTTYPE=image/png:https://www.tsv-destedt.de/wp-content/uploads/2024/08/Bild_2024-08-17_114111444.png
ORGANIZER;CN="TSV Destedt":MAILTO:info@tsv-destedt.de
END:VEVENT
BEGIN:VEVENT
DTSTART;TZID=Europe/Berlin:20280330T183000
DTEND;TZID=Europe/Berlin:20280330T203000
DTSTAMP:20260419T212959
CREATED:20250104T102238Z
LAST-MODIFIED:20250104T105051Z
UID:10003473-1838053800-1838061000@www.tsv-destedt.de
SUMMARY:Fußball: Training 1. Herren
DESCRIPTION:
URL:https://www.tsv-destedt.de/event/fussball-training-1-herren/2028-03-30/
LOCATION:Sportplatz TSV Destedt\, Ohestraße 1\, Cremlingen\, Niedersachsen\, 38162\, Germany
CATEGORIES:Fußball
ATTACH;FMTTYPE=image/jpeg:https://www.tsv-destedt.de/wp-content/uploads/2025/01/soccer-933037_640_rKSk.jpg
ORGANIZER;CN="TSV Destedt":MAILTO:info@tsv-destedt.de
END:VEVENT
BEGIN:VEVENT
DTSTART;TZID=Europe/Berlin:20280330T190000
DTEND;TZID=Europe/Berlin:20280330T210000
DTSTAMP:20260419T212959
CREATED:20250412T070116Z
LAST-MODIFIED:20250412T070117Z
UID:10008075-1838055600-1838062800@www.tsv-destedt.de
SUMMARY:Tanzgarde Training
DESCRIPTION:
URL:https://www.tsv-destedt.de/event/tanzgarde-training-2/2028-03-30/
LOCATION:Sporthalle Destedt\, Ohestraße 1\, Cremlingen\, Nieder#\, 38162\, Germany
CATEGORIES:Tanzgarde
ATTACH;FMTTYPE=image/jpeg:https://www.tsv-destedt.de/wp-content/uploads/2025/01/Lippelt.jpeg
ORGANIZER;CN="TSV Destedt":MAILTO:info@tsv-destedt.de
END:VEVENT
BEGIN:VEVENT
DTSTART;TZID=Europe/Berlin:20280331T163000
DTEND;TZID=Europe/Berlin:20280331T183000
DTSTAMP:20260419T212959
CREATED:20250425T060909Z
LAST-MODIFIED:20251010T132207Z
UID:10004871-1838133000-1838140200@www.tsv-destedt.de
SUMMARY:Fußball Jugend Training
DESCRIPTION:
URL:https://www.tsv-destedt.de/event/fussball-jugend-training-3/2028-03-31/
LOCATION:Sportplatz TSV Destedt\, Ohestraße 1\, Cremlingen\, Niedersachsen\, 38162\, Germany
CATEGORIES:Fußball
ATTACH;FMTTYPE=image/jpeg:https://www.tsv-destedt.de/wp-content/uploads/2025/01/soccer-933037_640_rKSk.jpg
ORGANIZER;CN="TSV Destedt":MAILTO:info@tsv-destedt.de
END:VEVENT
BEGIN:VEVENT
DTSTART;TZID=Europe/Berlin:20280331T200000
DTEND;TZID=Europe/Berlin:20280331T220000
DTSTAMP:20260419T212959
CREATED:20250104T103132Z
LAST-MODIFIED:20250115T084303Z
UID:10005133-1838145600-1838152800@www.tsv-destedt.de
SUMMARY:Basketball Training
DESCRIPTION:Basketball
URL:https://www.tsv-destedt.de/event/basketball-training/2028-03-31/
LOCATION:Sporthalle Destedt\, Ohestraße 1\, Cremlingen\, Nieder#\, 38162\, Germany
CATEGORIES:Basketball
ATTACH;FMTTYPE=image/jpeg:https://www.tsv-destedt.de/wp-content/uploads/2025/01/basketball-7121617_640_1vVb.jpg
ORGANIZER;CN="TSV Destedt":MAILTO:info@tsv-destedt.de
END:VEVENT
BEGIN:VEVENT
DTSTART;TZID=Europe/Berlin:20280401T093000
DTEND;TZID=Europe/Berlin:20280401T123000
DTSTAMP:20260419T212959
CREATED:20250325T065208Z
LAST-MODIFIED:20250403T101957Z
UID:10005656-1838194200-1838205000@www.tsv-destedt.de
SUMMARY:Leichtathletik Kids
DESCRIPTION:Leichtathletik-Kids
URL:https://www.tsv-destedt.de/event/leichtathletik-kids-4/2028-04-01/
LOCATION:Sporthalle Destedt\, Ohestraße 1\, Cremlingen\, Nieder#\, 38162\, Germany
CATEGORIES:Leichtathletik
ATTACH;FMTTYPE=image/jpeg:https://www.tsv-destedt.de/wp-content/uploads/2024/10/DSC01850-scaled.jpg
END:VEVENT
BEGIN:VEVENT
DTSTART;TZID=Europe/Berlin:20280402T110000
DTEND;TZID=Europe/Berlin:20280402T130000
DTSTAMP:20260419T212959
CREATED:20250104T101116Z
LAST-MODIFIED:20251227T185219Z
UID:10001934-1838286000-1838293200@www.tsv-destedt.de
SUMMARY:Tischtennis
DESCRIPTION:
URL:https://www.tsv-destedt.de/event/tischtennis/2028-04-02/
LOCATION:Sporthalle Destedt\, Ohestraße 1\, Cremlingen\, Nieder#\, 38162\, Germany
CATEGORIES:Tischtennis
ATTACH;FMTTYPE=image/jpeg:https://www.tsv-destedt.de/wp-content/uploads/2024/11/sports-3097621_1920.jpg
END:VEVENT
BEGIN:VEVENT
DTSTART;TZID=Europe/Berlin:20280402T163000
DTEND;TZID=Europe/Berlin:20280402T190000
DTSTAMP:20260419T212959
CREATED:20251227T085658Z
LAST-MODIFIED:20251227T085700Z
UID:10001673-1838305800-1838314800@www.tsv-destedt.de
SUMMARY:Hobby Horsing
DESCRIPTION:Hobby Horsing
URL:https://www.tsv-destedt.de/event/hobby-horsing-2-8/2028-04-02/
LOCATION:Sporthalle Destedt\, Ohestraße 1\, Cremlingen\, Nieder#\, 38162\, Germany
CATEGORIES:Hobby Horsing
ATTACH;FMTTYPE=image/jpeg:https://www.tsv-destedt.de/wp-content/uploads/2024/08/c6c0aacd-832f-4783-b7c5-cfce7e9f8735.jpeg
ORGANIZER;CN="RuF Cremlingen und TSV Destedt":MAILTO:hobby-horsing@tsv-destedt.de
END:VEVENT
BEGIN:VEVENT
DTSTART;TZID=Europe/Berlin:20280403T160000
DTEND;TZID=Europe/Berlin:20280403T165500
DTSTAMP:20260419T212959
CREATED:20250104T101719Z
LAST-MODIFIED:20250518T095134Z
UID:10007059-1838390400-1838393700@www.tsv-destedt.de
SUMMARY:Eltern-/ Kindturnen
DESCRIPTION:Kinderturnen
URL:https://www.tsv-destedt.de/event/kinderturnen/2028-04-03/
LOCATION:Sporthalle Destedt\, Ohestraße 1\, Cremlingen\, Nieder#\, 38162\, Germany
CATEGORIES:Kinderturnen
ATTACH;FMTTYPE=image/jpeg:https://www.tsv-destedt.de/wp-content/uploads/2024/11/PHOTO-2024-10-29-13-07-42-1-e1731167738809.jpg
ORGANIZER;CN="TSV Destedt":MAILTO:info@tsv-destedt.de
END:VEVENT
BEGIN:VEVENT
DTSTART;TZID=Europe/Berlin:20280403T181500
DTEND;TZID=Europe/Berlin:20280403T200000
DTSTAMP:20260419T212959
CREATED:20251212T074801Z
LAST-MODIFIED:20251212T074946Z
UID:10009323-1838398500-1838404800@www.tsv-destedt.de
SUMMARY:Volleyball Jugend Training
DESCRIPTION:
URL:https://www.tsv-destedt.de/event/volleyball-jugend-training-2/2028-04-03/
LOCATION:Sporthalle Destedt\, Ohestraße 1\, Cremlingen\, Nieder#\, 38162\, Germany
CATEGORIES:Volleyball
ATTACH;FMTTYPE=image/jpeg:https://www.tsv-destedt.de/wp-content/uploads/2025/01/ball-1930192_640_8aiz.jpg
ORGANIZER;CN="TSV Destedt":MAILTO:info@tsv-destedt.de
END:VEVENT
BEGIN:VEVENT
DTSTART;TZID=Europe/Berlin:20280403T190000
DTEND;TZID=Europe/Berlin:20280403T201500
DTSTAMP:20260419T212959
CREATED:20251108T164305Z
LAST-MODIFIED:20251108T164305Z
UID:10009059-1838401200-1838405700@www.tsv-destedt.de
SUMMARY:Fußball: Alte Herren (Ü40) Training
DESCRIPTION:
URL:https://www.tsv-destedt.de/event/fussball-alte-herren-ue40-training/2028-04-03/
LOCATION:Sportplatz TSV Destedt\, Ohestraße 1\, Cremlingen\, Niedersachsen\, 38162\, Germany
CATEGORIES:Fußball
ATTACH;FMTTYPE=image/jpeg:https://www.tsv-destedt.de/wp-content/uploads/2025/01/soccer-933037_640_rKSk.jpg
ORGANIZER;CN="TSV Destedt":MAILTO:info@tsv-destedt.de
END:VEVENT
BEGIN:VEVENT
DTSTART;TZID=Europe/Berlin:20280403T200000
DTEND;TZID=Europe/Berlin:20280403T213000
DTSTAMP:20260419T212959
CREATED:20250104T102036Z
LAST-MODIFIED:20250104T105140Z
UID:10002783-1838404800-1838410200@www.tsv-destedt.de
SUMMARY:Volleyball Damen Training
DESCRIPTION:
URL:https://www.tsv-destedt.de/event/volleyball-damen-training/2028-04-03/
LOCATION:Sporthalle Destedt\, Ohestraße 1\, Cremlingen\, Nieder#\, 38162\, Germany
CATEGORIES:Volleyball
ATTACH;FMTTYPE=image/jpeg:https://www.tsv-destedt.de/wp-content/uploads/2025/01/ball-1930192_640_8aiz.jpg
ORGANIZER;CN="TSV Destedt":MAILTO:info@tsv-destedt.de
END:VEVENT
BEGIN:VEVENT
DTSTART;TZID=Europe/Berlin:20280404T183000
DTEND;TZID=Europe/Berlin:20280404T200000
DTSTAMP:20260419T212959
CREATED:20250104T112429Z
LAST-MODIFIED:20250107T143518Z
UID:10006766-1838485800-1838491200@www.tsv-destedt.de
SUMMARY:Volleyball Mixed Training
DESCRIPTION:
URL:https://www.tsv-destedt.de/event/volleyball-mixed-training/2028-04-04/
LOCATION:Sporthalle Destedt\, Ohestraße 1\, Cremlingen\, Nieder#\, 38162\, Germany
CATEGORIES:Volleyball
ATTACH;FMTTYPE=image/jpeg:https://www.tsv-destedt.de/wp-content/uploads/2025/01/ball-1930192_640_8aiz.jpg
ORGANIZER;CN="TSV Destedt":MAILTO:info@tsv-destedt.de
END:VEVENT
BEGIN:VEVENT
DTSTART;TZID=Europe/Berlin:20280404T183000
DTEND;TZID=Europe/Berlin:20280404T203000
DTSTAMP:20260419T212959
CREATED:20250104T102238Z
LAST-MODIFIED:20250104T105051Z
UID:10003474-1838485800-1838493000@www.tsv-destedt.de
SUMMARY:Fußball: Training 1. Herren
DESCRIPTION:
URL:https://www.tsv-destedt.de/event/fussball-training-1-herren/2028-04-04/
LOCATION:Sportplatz TSV Destedt\, Ohestraße 1\, Cremlingen\, Niedersachsen\, 38162\, Germany
CATEGORIES:Fußball
ATTACH;FMTTYPE=image/jpeg:https://www.tsv-destedt.de/wp-content/uploads/2025/01/soccer-933037_640_rKSk.jpg
ORGANIZER;CN="TSV Destedt":MAILTO:info@tsv-destedt.de
END:VEVENT
BEGIN:VEVENT
DTSTART;TZID=Europe/Berlin:20280404T190000
DTEND;TZID=Europe/Berlin:20280404T201500
DTSTAMP:20260419T212959
CREATED:20250104T102325Z
LAST-MODIFIED:20250104T105023Z
UID:10003827-1838487600-1838492100@www.tsv-destedt.de
SUMMARY:Fußball: Alte Herren (Ü32) Training
DESCRIPTION:
URL:https://www.tsv-destedt.de/event/fussball-alte-herren-ue32-training/2028-04-04/
LOCATION:Sportplatz TSV Destedt\, Ohestraße 1\, Cremlingen\, Niedersachsen\, 38162\, Germany
CATEGORIES:Fußball
ATTACH;FMTTYPE=image/jpeg:https://www.tsv-destedt.de/wp-content/uploads/2025/01/soccer-933037_640_rKSk.jpg
ORGANIZER;CN="TSV Destedt":MAILTO:info@tsv-destedt.de
END:VEVENT
BEGIN:VEVENT
DTSTART;TZID=Europe/Berlin:20280404T203000
DTEND;TZID=Europe/Berlin:20280404T220000
DTSTAMP:20260419T212959
CREATED:20250104T102136Z
LAST-MODIFIED:20250115T085251Z
UID:10003044-1838493000-1838498400@www.tsv-destedt.de
SUMMARY:Ball über die Schnur
DESCRIPTION:Ball über die Schnur
URL:https://www.tsv-destedt.de/event/ball-ueber-die-schnur/2028-04-04/
LOCATION:Sporthalle Destedt\, Ohestraße 1\, Cremlingen\, Nieder#\, 38162\, Germany
CATEGORIES:Ball über die Schnur
ORGANIZER;CN="TSV Destedt":MAILTO:info@tsv-destedt.de
END:VEVENT
END:VCALENDAR