BEGIN:VCALENDAR
VERSION:2.0
PRODID:-//TSV Destedt - ECPv6.15.20//NONSGML v1.0//EN
CALSCALE:GREGORIAN
METHOD:PUBLISH
X-WR-CALNAME:TSV Destedt
X-ORIGINAL-URL:https://www.tsv-destedt.de
X-WR-CALDESC:Veranstaltungen für TSV Destedt
REFRESH-INTERVAL;VALUE=DURATION:PT1H
X-Robots-Tag:noindex
X-PUBLISHED-TTL:PT1H
BEGIN:VTIMEZONE
TZID:Europe/Berlin
BEGIN:DAYLIGHT
TZOFFSETFROM:+0100
TZOFFSETTO:+0200
TZNAME:CEST
DTSTART:20270328T010000
END:DAYLIGHT
BEGIN:STANDARD
TZOFFSETFROM:+0200
TZOFFSETTO:+0100
TZNAME:CET
DTSTART:20271031T010000
END:STANDARD
BEGIN:DAYLIGHT
TZOFFSETFROM:+0100
TZOFFSETTO:+0200
TZNAME:CEST
DTSTART:20280326T010000
END:DAYLIGHT
BEGIN:STANDARD
TZOFFSETFROM:+0200
TZOFFSETTO:+0100
TZNAME:CET
DTSTART:20281029T010000
END:STANDARD
BEGIN:DAYLIGHT
TZOFFSETFROM:+0100
TZOFFSETTO:+0200
TZNAME:CEST
DTSTART:20290325T010000
END:DAYLIGHT
BEGIN:STANDARD
TZOFFSETFROM:+0200
TZOFFSETTO:+0100
TZNAME:CET
DTSTART:20291028T010000
END:STANDARD
END:VTIMEZONE
BEGIN:VEVENT
DTSTART;TZID=Europe/Berlin:20280315T190000
DTEND;TZID=Europe/Berlin:20280315T200000
DTSTAMP:20260419T194505
CREATED:20250104T102424Z
LAST-MODIFIED:20250404T111348Z
UID:10007769-1836759600-1836763200@www.tsv-destedt.de
SUMMARY:Bodyfit Training
DESCRIPTION:Bodyfit
URL:https://www.tsv-destedt.de/event/bodyfit-training/2028-03-15/
LOCATION:Sporthalle Destedt\, Ohestraße 1\, Cremlingen\, Nieder#\, 38162\, Germany
CATEGORIES:Bodyfit
ATTACH;FMTTYPE=image/jpeg:https://www.tsv-destedt.de/wp-content/uploads/2025/01/dumbbells-2465478_640_ZRpa.jpg
ORGANIZER;CN="TSV Destedt":MAILTO:info@tsv-destedt.de
END:VEVENT
BEGIN:VEVENT
DTSTART;TZID=Europe/Berlin:20280316T153000
DTEND;TZID=Europe/Berlin:20280316T170000
DTSTAMP:20260419T194505
CREATED:20250104T102534Z
LAST-MODIFIED:20250206T082535Z
UID:10004346-1836833400-1836838800@www.tsv-destedt.de
SUMMARY:Leichtathletik Kids
DESCRIPTION:Leichtathletik-Kids
URL:https://www.tsv-destedt.de/event/leichtathletik-kids-2/2028-03-16/
LOCATION:Sporthalle Destedt\, Ohestraße 1\, Cremlingen\, Nieder#\, 38162\, Germany
CATEGORIES:Leichtathletik
ATTACH;FMTTYPE=image/jpeg:https://www.tsv-destedt.de/wp-content/uploads/2024/10/DSC01850-scaled.jpg
ORGANIZER;CN="TSV Destedt":MAILTO:info@tsv-destedt.de
END:VEVENT
BEGIN:VEVENT
DTSTART;TZID=Europe/Berlin:20280316T163000
DTEND;TZID=Europe/Berlin:20280316T181500
DTSTAMP:20260419T194505
CREATED:20250104T102658Z
LAST-MODIFIED:20250115T085520Z
UID:10006439-1836837000-1836843300@www.tsv-destedt.de
SUMMARY:Dancekids Training
DESCRIPTION:Dance Kids
URL:https://www.tsv-destedt.de/event/dancekids-training/2028-03-16/
LOCATION:Sporthalle Destedt\, Ohestraße 1\, Cremlingen\, Nieder#\, 38162\, Germany
CATEGORIES:Dancekids
ATTACH;FMTTYPE=image/png:https://www.tsv-destedt.de/wp-content/uploads/2024/08/Bild_2024-08-17_114111444.png
ORGANIZER;CN="TSV Destedt":MAILTO:info@tsv-destedt.de
END:VEVENT
BEGIN:VEVENT
DTSTART;TZID=Europe/Berlin:20280316T183000
DTEND;TZID=Europe/Berlin:20280316T203000
DTSTAMP:20260419T194505
CREATED:20250104T102238Z
LAST-MODIFIED:20250104T105051Z
UID:10003469-1836844200-1836851400@www.tsv-destedt.de
SUMMARY:Fußball: Training 1. Herren
DESCRIPTION:
URL:https://www.tsv-destedt.de/event/fussball-training-1-herren/2028-03-16/
LOCATION:Sportplatz TSV Destedt\, Ohestraße 1\, Cremlingen\, Niedersachsen\, 38162\, Germany
CATEGORIES:Fußball
ATTACH;FMTTYPE=image/jpeg:https://www.tsv-destedt.de/wp-content/uploads/2025/01/soccer-933037_640_rKSk.jpg
ORGANIZER;CN="TSV Destedt":MAILTO:info@tsv-destedt.de
END:VEVENT
BEGIN:VEVENT
DTSTART;TZID=Europe/Berlin:20280316T190000
DTEND;TZID=Europe/Berlin:20280316T210000
DTSTAMP:20260419T194505
CREATED:20250412T070116Z
LAST-MODIFIED:20250412T070117Z
UID:10008073-1836846000-1836853200@www.tsv-destedt.de
SUMMARY:Tanzgarde Training
DESCRIPTION:
URL:https://www.tsv-destedt.de/event/tanzgarde-training-2/2028-03-16/
LOCATION:Sporthalle Destedt\, Ohestraße 1\, Cremlingen\, Nieder#\, 38162\, Germany
CATEGORIES:Tanzgarde
ATTACH;FMTTYPE=image/jpeg:https://www.tsv-destedt.de/wp-content/uploads/2025/01/Lippelt.jpeg
ORGANIZER;CN="TSV Destedt":MAILTO:info@tsv-destedt.de
END:VEVENT
BEGIN:VEVENT
DTSTART;TZID=Europe/Berlin:20280317T163000
DTEND;TZID=Europe/Berlin:20280317T183000
DTSTAMP:20260419T194505
CREATED:20250425T060909Z
LAST-MODIFIED:20251010T132207Z
UID:10004869-1836923400-1836930600@www.tsv-destedt.de
SUMMARY:Fußball Jugend Training
DESCRIPTION:
URL:https://www.tsv-destedt.de/event/fussball-jugend-training-3/2028-03-17/
LOCATION:Sportplatz TSV Destedt\, Ohestraße 1\, Cremlingen\, Niedersachsen\, 38162\, Germany
CATEGORIES:Fußball
ATTACH;FMTTYPE=image/jpeg:https://www.tsv-destedt.de/wp-content/uploads/2025/01/soccer-933037_640_rKSk.jpg
ORGANIZER;CN="TSV Destedt":MAILTO:info@tsv-destedt.de
END:VEVENT
BEGIN:VEVENT
DTSTART;TZID=Europe/Berlin:20280317T200000
DTEND;TZID=Europe/Berlin:20280317T220000
DTSTAMP:20260419T194505
CREATED:20250104T103132Z
LAST-MODIFIED:20250115T084303Z
UID:10005131-1836936000-1836943200@www.tsv-destedt.de
SUMMARY:Basketball Training
DESCRIPTION:Basketball
URL:https://www.tsv-destedt.de/event/basketball-training/2028-03-17/
LOCATION:Sporthalle Destedt\, Ohestraße 1\, Cremlingen\, Nieder#\, 38162\, Germany
CATEGORIES:Basketball
ATTACH;FMTTYPE=image/jpeg:https://www.tsv-destedt.de/wp-content/uploads/2025/01/basketball-7121617_640_1vVb.jpg
ORGANIZER;CN="TSV Destedt":MAILTO:info@tsv-destedt.de
END:VEVENT
BEGIN:VEVENT
DTSTART;TZID=Europe/Berlin:20280318T093000
DTEND;TZID=Europe/Berlin:20280318T123000
DTSTAMP:20260419T194505
CREATED:20250325T065208Z
LAST-MODIFIED:20250403T101957Z
UID:10005654-1836984600-1836995400@www.tsv-destedt.de
SUMMARY:Leichtathletik Kids
DESCRIPTION:Leichtathletik-Kids
URL:https://www.tsv-destedt.de/event/leichtathletik-kids-4/2028-03-18/
LOCATION:Sporthalle Destedt\, Ohestraße 1\, Cremlingen\, Nieder#\, 38162\, Germany
CATEGORIES:Leichtathletik
ATTACH;FMTTYPE=image/jpeg:https://www.tsv-destedt.de/wp-content/uploads/2024/10/DSC01850-scaled.jpg
END:VEVENT
BEGIN:VEVENT
DTSTART;TZID=Europe/Berlin:20280319T110000
DTEND;TZID=Europe/Berlin:20280319T130000
DTSTAMP:20260419T194505
CREATED:20250104T101116Z
LAST-MODIFIED:20251227T185219Z
UID:10001932-1837076400-1837083600@www.tsv-destedt.de
SUMMARY:Tischtennis
DESCRIPTION:
URL:https://www.tsv-destedt.de/event/tischtennis/2028-03-19/
LOCATION:Sporthalle Destedt\, Ohestraße 1\, Cremlingen\, Nieder#\, 38162\, Germany
CATEGORIES:Tischtennis
ATTACH;FMTTYPE=image/jpeg:https://www.tsv-destedt.de/wp-content/uploads/2024/11/sports-3097621_1920.jpg
END:VEVENT
BEGIN:VEVENT
DTSTART;TZID=Europe/Berlin:20280319T163000
DTEND;TZID=Europe/Berlin:20280319T190000
DTSTAMP:20260419T194505
CREATED:20251227T085658Z
LAST-MODIFIED:20251227T085700Z
UID:10001671-1837096200-1837105200@www.tsv-destedt.de
SUMMARY:Hobby Horsing
DESCRIPTION:Hobby Horsing
URL:https://www.tsv-destedt.de/event/hobby-horsing-2-8/2028-03-19/
LOCATION:Sporthalle Destedt\, Ohestraße 1\, Cremlingen\, Nieder#\, 38162\, Germany
CATEGORIES:Hobby Horsing
ATTACH;FMTTYPE=image/jpeg:https://www.tsv-destedt.de/wp-content/uploads/2024/08/c6c0aacd-832f-4783-b7c5-cfce7e9f8735.jpeg
ORGANIZER;CN="RuF Cremlingen und TSV Destedt":MAILTO:hobby-horsing@tsv-destedt.de
END:VEVENT
BEGIN:VEVENT
DTSTART;TZID=Europe/Berlin:20280320T160000
DTEND;TZID=Europe/Berlin:20280320T165500
DTSTAMP:20260419T194505
CREATED:20250104T101719Z
LAST-MODIFIED:20250518T095134Z
UID:10007057-1837180800-1837184100@www.tsv-destedt.de
SUMMARY:Eltern-/ Kindturnen
DESCRIPTION:Kinderturnen
URL:https://www.tsv-destedt.de/event/kinderturnen/2028-03-20/
LOCATION:Sporthalle Destedt\, Ohestraße 1\, Cremlingen\, Nieder#\, 38162\, Germany
CATEGORIES:Kinderturnen
ATTACH;FMTTYPE=image/jpeg:https://www.tsv-destedt.de/wp-content/uploads/2024/11/PHOTO-2024-10-29-13-07-42-1-e1731167738809.jpg
ORGANIZER;CN="TSV Destedt":MAILTO:info@tsv-destedt.de
END:VEVENT
BEGIN:VEVENT
DTSTART;TZID=Europe/Berlin:20280320T181500
DTEND;TZID=Europe/Berlin:20280320T200000
DTSTAMP:20260419T194505
CREATED:20251212T074801Z
LAST-MODIFIED:20251212T074946Z
UID:10009321-1837188900-1837195200@www.tsv-destedt.de
SUMMARY:Volleyball Jugend Training
DESCRIPTION:
URL:https://www.tsv-destedt.de/event/volleyball-jugend-training-2/2028-03-20/
LOCATION:Sporthalle Destedt\, Ohestraße 1\, Cremlingen\, Nieder#\, 38162\, Germany
CATEGORIES:Volleyball
ATTACH;FMTTYPE=image/jpeg:https://www.tsv-destedt.de/wp-content/uploads/2025/01/ball-1930192_640_8aiz.jpg
ORGANIZER;CN="TSV Destedt":MAILTO:info@tsv-destedt.de
END:VEVENT
BEGIN:VEVENT
DTSTART;TZID=Europe/Berlin:20280320T190000
DTEND;TZID=Europe/Berlin:20280320T201500
DTSTAMP:20260419T194505
CREATED:20251108T164305Z
LAST-MODIFIED:20251108T164305Z
UID:10009057-1837191600-1837196100@www.tsv-destedt.de
SUMMARY:Fußball: Alte Herren (Ü40) Training
DESCRIPTION:
URL:https://www.tsv-destedt.de/event/fussball-alte-herren-ue40-training/2028-03-20/
LOCATION:Sportplatz TSV Destedt\, Ohestraße 1\, Cremlingen\, Niedersachsen\, 38162\, Germany
CATEGORIES:Fußball
ATTACH;FMTTYPE=image/jpeg:https://www.tsv-destedt.de/wp-content/uploads/2025/01/soccer-933037_640_rKSk.jpg
ORGANIZER;CN="TSV Destedt":MAILTO:info@tsv-destedt.de
END:VEVENT
BEGIN:VEVENT
DTSTART;TZID=Europe/Berlin:20280320T200000
DTEND;TZID=Europe/Berlin:20280320T213000
DTSTAMP:20260419T194505
CREATED:20250104T102036Z
LAST-MODIFIED:20250104T105140Z
UID:10002781-1837195200-1837200600@www.tsv-destedt.de
SUMMARY:Volleyball Damen Training
DESCRIPTION:
URL:https://www.tsv-destedt.de/event/volleyball-damen-training/2028-03-20/
LOCATION:Sporthalle Destedt\, Ohestraße 1\, Cremlingen\, Nieder#\, 38162\, Germany
CATEGORIES:Volleyball
ATTACH;FMTTYPE=image/jpeg:https://www.tsv-destedt.de/wp-content/uploads/2025/01/ball-1930192_640_8aiz.jpg
ORGANIZER;CN="TSV Destedt":MAILTO:info@tsv-destedt.de
END:VEVENT
BEGIN:VEVENT
DTSTART;TZID=Europe/Berlin:20280321T183000
DTEND;TZID=Europe/Berlin:20280321T200000
DTSTAMP:20260419T194505
CREATED:20250104T112429Z
LAST-MODIFIED:20250107T143518Z
UID:10006764-1837276200-1837281600@www.tsv-destedt.de
SUMMARY:Volleyball Mixed Training
DESCRIPTION:
URL:https://www.tsv-destedt.de/event/volleyball-mixed-training/2028-03-21/
LOCATION:Sporthalle Destedt\, Ohestraße 1\, Cremlingen\, Nieder#\, 38162\, Germany
CATEGORIES:Volleyball
ATTACH;FMTTYPE=image/jpeg:https://www.tsv-destedt.de/wp-content/uploads/2025/01/ball-1930192_640_8aiz.jpg
ORGANIZER;CN="TSV Destedt":MAILTO:info@tsv-destedt.de
END:VEVENT
BEGIN:VEVENT
DTSTART;TZID=Europe/Berlin:20280321T183000
DTEND;TZID=Europe/Berlin:20280321T203000
DTSTAMP:20260419T194505
CREATED:20250104T102238Z
LAST-MODIFIED:20250104T105051Z
UID:10003470-1837276200-1837283400@www.tsv-destedt.de
SUMMARY:Fußball: Training 1. Herren
DESCRIPTION:
URL:https://www.tsv-destedt.de/event/fussball-training-1-herren/2028-03-21/
LOCATION:Sportplatz TSV Destedt\, Ohestraße 1\, Cremlingen\, Niedersachsen\, 38162\, Germany
CATEGORIES:Fußball
ATTACH;FMTTYPE=image/jpeg:https://www.tsv-destedt.de/wp-content/uploads/2025/01/soccer-933037_640_rKSk.jpg
ORGANIZER;CN="TSV Destedt":MAILTO:info@tsv-destedt.de
END:VEVENT
BEGIN:VEVENT
DTSTART;TZID=Europe/Berlin:20280321T190000
DTEND;TZID=Europe/Berlin:20280321T201500
DTSTAMP:20260419T194505
CREATED:20250104T102325Z
LAST-MODIFIED:20250104T105023Z
UID:10003825-1837278000-1837282500@www.tsv-destedt.de
SUMMARY:Fußball: Alte Herren (Ü32) Training
DESCRIPTION:
URL:https://www.tsv-destedt.de/event/fussball-alte-herren-ue32-training/2028-03-21/
LOCATION:Sportplatz TSV Destedt\, Ohestraße 1\, Cremlingen\, Niedersachsen\, 38162\, Germany
CATEGORIES:Fußball
ATTACH;FMTTYPE=image/jpeg:https://www.tsv-destedt.de/wp-content/uploads/2025/01/soccer-933037_640_rKSk.jpg
ORGANIZER;CN="TSV Destedt":MAILTO:info@tsv-destedt.de
END:VEVENT
BEGIN:VEVENT
DTSTART;TZID=Europe/Berlin:20280321T203000
DTEND;TZID=Europe/Berlin:20280321T220000
DTSTAMP:20260419T194505
CREATED:20250104T102136Z
LAST-MODIFIED:20250115T085251Z
UID:10003042-1837283400-1837288800@www.tsv-destedt.de
SUMMARY:Ball über die Schnur
DESCRIPTION:Ball über die Schnur
URL:https://www.tsv-destedt.de/event/ball-ueber-die-schnur/2028-03-21/
LOCATION:Sporthalle Destedt\, Ohestraße 1\, Cremlingen\, Nieder#\, 38162\, Germany
CATEGORIES:Ball über die Schnur
ORGANIZER;CN="TSV Destedt":MAILTO:info@tsv-destedt.de
END:VEVENT
BEGIN:VEVENT
DTSTART;TZID=Europe/Berlin:20280322T190000
DTEND;TZID=Europe/Berlin:20280322T200000
DTSTAMP:20260419T194505
CREATED:20250104T102424Z
LAST-MODIFIED:20250404T111348Z
UID:10007770-1837364400-1837368000@www.tsv-destedt.de
SUMMARY:Bodyfit Training
DESCRIPTION:Bodyfit
URL:https://www.tsv-destedt.de/event/bodyfit-training/2028-03-22/
LOCATION:Sporthalle Destedt\, Ohestraße 1\, Cremlingen\, Nieder#\, 38162\, Germany
CATEGORIES:Bodyfit
ATTACH;FMTTYPE=image/jpeg:https://www.tsv-destedt.de/wp-content/uploads/2025/01/dumbbells-2465478_640_ZRpa.jpg
ORGANIZER;CN="TSV Destedt":MAILTO:info@tsv-destedt.de
END:VEVENT
BEGIN:VEVENT
DTSTART;TZID=Europe/Berlin:20280323T153000
DTEND;TZID=Europe/Berlin:20280323T170000
DTSTAMP:20260419T194505
CREATED:20250104T102534Z
LAST-MODIFIED:20250206T082535Z
UID:10004347-1837438200-1837443600@www.tsv-destedt.de
SUMMARY:Leichtathletik Kids
DESCRIPTION:Leichtathletik-Kids
URL:https://www.tsv-destedt.de/event/leichtathletik-kids-2/2028-03-23/
LOCATION:Sporthalle Destedt\, Ohestraße 1\, Cremlingen\, Nieder#\, 38162\, Germany
CATEGORIES:Leichtathletik
ATTACH;FMTTYPE=image/jpeg:https://www.tsv-destedt.de/wp-content/uploads/2024/10/DSC01850-scaled.jpg
ORGANIZER;CN="TSV Destedt":MAILTO:info@tsv-destedt.de
END:VEVENT
BEGIN:VEVENT
DTSTART;TZID=Europe/Berlin:20280323T163000
DTEND;TZID=Europe/Berlin:20280323T181500
DTSTAMP:20260419T194505
CREATED:20250104T102658Z
LAST-MODIFIED:20250115T085520Z
UID:10006440-1837441800-1837448100@www.tsv-destedt.de
SUMMARY:Dancekids Training
DESCRIPTION:Dance Kids
URL:https://www.tsv-destedt.de/event/dancekids-training/2028-03-23/
LOCATION:Sporthalle Destedt\, Ohestraße 1\, Cremlingen\, Nieder#\, 38162\, Germany
CATEGORIES:Dancekids
ATTACH;FMTTYPE=image/png:https://www.tsv-destedt.de/wp-content/uploads/2024/08/Bild_2024-08-17_114111444.png
ORGANIZER;CN="TSV Destedt":MAILTO:info@tsv-destedt.de
END:VEVENT
BEGIN:VEVENT
DTSTART;TZID=Europe/Berlin:20280323T183000
DTEND;TZID=Europe/Berlin:20280323T203000
DTSTAMP:20260419T194505
CREATED:20250104T102238Z
LAST-MODIFIED:20250104T105051Z
UID:10003471-1837449000-1837456200@www.tsv-destedt.de
SUMMARY:Fußball: Training 1. Herren
DESCRIPTION:
URL:https://www.tsv-destedt.de/event/fussball-training-1-herren/2028-03-23/
LOCATION:Sportplatz TSV Destedt\, Ohestraße 1\, Cremlingen\, Niedersachsen\, 38162\, Germany
CATEGORIES:Fußball
ATTACH;FMTTYPE=image/jpeg:https://www.tsv-destedt.de/wp-content/uploads/2025/01/soccer-933037_640_rKSk.jpg
ORGANIZER;CN="TSV Destedt":MAILTO:info@tsv-destedt.de
END:VEVENT
BEGIN:VEVENT
DTSTART;TZID=Europe/Berlin:20280323T190000
DTEND;TZID=Europe/Berlin:20280323T210000
DTSTAMP:20260419T194505
CREATED:20250412T070116Z
LAST-MODIFIED:20250412T070117Z
UID:10008074-1837450800-1837458000@www.tsv-destedt.de
SUMMARY:Tanzgarde Training
DESCRIPTION:
URL:https://www.tsv-destedt.de/event/tanzgarde-training-2/2028-03-23/
LOCATION:Sporthalle Destedt\, Ohestraße 1\, Cremlingen\, Nieder#\, 38162\, Germany
CATEGORIES:Tanzgarde
ATTACH;FMTTYPE=image/jpeg:https://www.tsv-destedt.de/wp-content/uploads/2025/01/Lippelt.jpeg
ORGANIZER;CN="TSV Destedt":MAILTO:info@tsv-destedt.de
END:VEVENT
BEGIN:VEVENT
DTSTART;TZID=Europe/Berlin:20280324T163000
DTEND;TZID=Europe/Berlin:20280324T183000
DTSTAMP:20260419T194505
CREATED:20250425T060909Z
LAST-MODIFIED:20251010T132207Z
UID:10004870-1837528200-1837535400@www.tsv-destedt.de
SUMMARY:Fußball Jugend Training
DESCRIPTION:
URL:https://www.tsv-destedt.de/event/fussball-jugend-training-3/2028-03-24/
LOCATION:Sportplatz TSV Destedt\, Ohestraße 1\, Cremlingen\, Niedersachsen\, 38162\, Germany
CATEGORIES:Fußball
ATTACH;FMTTYPE=image/jpeg:https://www.tsv-destedt.de/wp-content/uploads/2025/01/soccer-933037_640_rKSk.jpg
ORGANIZER;CN="TSV Destedt":MAILTO:info@tsv-destedt.de
END:VEVENT
BEGIN:VEVENT
DTSTART;TZID=Europe/Berlin:20280324T200000
DTEND;TZID=Europe/Berlin:20280324T220000
DTSTAMP:20260419T194505
CREATED:20250104T103132Z
LAST-MODIFIED:20250115T084303Z
UID:10005132-1837540800-1837548000@www.tsv-destedt.de
SUMMARY:Basketball Training
DESCRIPTION:Basketball
URL:https://www.tsv-destedt.de/event/basketball-training/2028-03-24/
LOCATION:Sporthalle Destedt\, Ohestraße 1\, Cremlingen\, Nieder#\, 38162\, Germany
CATEGORIES:Basketball
ATTACH;FMTTYPE=image/jpeg:https://www.tsv-destedt.de/wp-content/uploads/2025/01/basketball-7121617_640_1vVb.jpg
ORGANIZER;CN="TSV Destedt":MAILTO:info@tsv-destedt.de
END:VEVENT
BEGIN:VEVENT
DTSTART;TZID=Europe/Berlin:20280325T093000
DTEND;TZID=Europe/Berlin:20280325T123000
DTSTAMP:20260419T194505
CREATED:20250325T065208Z
LAST-MODIFIED:20250403T101957Z
UID:10005655-1837589400-1837600200@www.tsv-destedt.de
SUMMARY:Leichtathletik Kids
DESCRIPTION:Leichtathletik-Kids
URL:https://www.tsv-destedt.de/event/leichtathletik-kids-4/2028-03-25/
LOCATION:Sporthalle Destedt\, Ohestraße 1\, Cremlingen\, Nieder#\, 38162\, Germany
CATEGORIES:Leichtathletik
ATTACH;FMTTYPE=image/jpeg:https://www.tsv-destedt.de/wp-content/uploads/2024/10/DSC01850-scaled.jpg
END:VEVENT
BEGIN:VEVENT
DTSTART;TZID=Europe/Berlin:20280326T110000
DTEND;TZID=Europe/Berlin:20280326T130000
DTSTAMP:20260419T194505
CREATED:20250104T101116Z
LAST-MODIFIED:20251227T185219Z
UID:10001933-1837681200-1837688400@www.tsv-destedt.de
SUMMARY:Tischtennis
DESCRIPTION:
URL:https://www.tsv-destedt.de/event/tischtennis/2028-03-26/
LOCATION:Sporthalle Destedt\, Ohestraße 1\, Cremlingen\, Nieder#\, 38162\, Germany
CATEGORIES:Tischtennis
ATTACH;FMTTYPE=image/jpeg:https://www.tsv-destedt.de/wp-content/uploads/2024/11/sports-3097621_1920.jpg
END:VEVENT
BEGIN:VEVENT
DTSTART;TZID=Europe/Berlin:20280326T163000
DTEND;TZID=Europe/Berlin:20280326T190000
DTSTAMP:20260419T194505
CREATED:20251227T085658Z
LAST-MODIFIED:20251227T085700Z
UID:10001672-1837701000-1837710000@www.tsv-destedt.de
SUMMARY:Hobby Horsing
DESCRIPTION:Hobby Horsing
URL:https://www.tsv-destedt.de/event/hobby-horsing-2-8/2028-03-26/
LOCATION:Sporthalle Destedt\, Ohestraße 1\, Cremlingen\, Nieder#\, 38162\, Germany
CATEGORIES:Hobby Horsing
ATTACH;FMTTYPE=image/jpeg:https://www.tsv-destedt.de/wp-content/uploads/2024/08/c6c0aacd-832f-4783-b7c5-cfce7e9f8735.jpeg
ORGANIZER;CN="RuF Cremlingen und TSV Destedt":MAILTO:hobby-horsing@tsv-destedt.de
END:VEVENT
BEGIN:VEVENT
DTSTART;TZID=Europe/Berlin:20280327T160000
DTEND;TZID=Europe/Berlin:20280327T165500
DTSTAMP:20260419T194505
CREATED:20250104T101719Z
LAST-MODIFIED:20250518T095134Z
UID:10007058-1837785600-1837788900@www.tsv-destedt.de
SUMMARY:Eltern-/ Kindturnen
DESCRIPTION:Kinderturnen
URL:https://www.tsv-destedt.de/event/kinderturnen/2028-03-27/
LOCATION:Sporthalle Destedt\, Ohestraße 1\, Cremlingen\, Nieder#\, 38162\, Germany
CATEGORIES:Kinderturnen
ATTACH;FMTTYPE=image/jpeg:https://www.tsv-destedt.de/wp-content/uploads/2024/11/PHOTO-2024-10-29-13-07-42-1-e1731167738809.jpg
ORGANIZER;CN="TSV Destedt":MAILTO:info@tsv-destedt.de
END:VEVENT
BEGIN:VEVENT
DTSTART;TZID=Europe/Berlin:20280327T181500
DTEND;TZID=Europe/Berlin:20280327T200000
DTSTAMP:20260419T194505
CREATED:20251212T074801Z
LAST-MODIFIED:20251212T074946Z
UID:10009322-1837793700-1837800000@www.tsv-destedt.de
SUMMARY:Volleyball Jugend Training
DESCRIPTION:
URL:https://www.tsv-destedt.de/event/volleyball-jugend-training-2/2028-03-27/
LOCATION:Sporthalle Destedt\, Ohestraße 1\, Cremlingen\, Nieder#\, 38162\, Germany
CATEGORIES:Volleyball
ATTACH;FMTTYPE=image/jpeg:https://www.tsv-destedt.de/wp-content/uploads/2025/01/ball-1930192_640_8aiz.jpg
ORGANIZER;CN="TSV Destedt":MAILTO:info@tsv-destedt.de
END:VEVENT
END:VCALENDAR