BEGIN:VCALENDAR
VERSION:2.0
PRODID:-//TSV Destedt - ECPv6.15.20//NONSGML v1.0//EN
CALSCALE:GREGORIAN
METHOD:PUBLISH
X-WR-CALNAME:TSV Destedt
X-ORIGINAL-URL:https://www.tsv-destedt.de
X-WR-CALDESC:Veranstaltungen für TSV Destedt
REFRESH-INTERVAL;VALUE=DURATION:PT1H
X-Robots-Tag:noindex
X-PUBLISHED-TTL:PT1H
BEGIN:VTIMEZONE
TZID:Europe/Berlin
BEGIN:DAYLIGHT
TZOFFSETFROM:+0100
TZOFFSETTO:+0200
TZNAME:CEST
DTSTART:20270328T010000
END:DAYLIGHT
BEGIN:STANDARD
TZOFFSETFROM:+0200
TZOFFSETTO:+0100
TZNAME:CET
DTSTART:20271031T010000
END:STANDARD
BEGIN:DAYLIGHT
TZOFFSETFROM:+0100
TZOFFSETTO:+0200
TZNAME:CEST
DTSTART:20280326T010000
END:DAYLIGHT
BEGIN:STANDARD
TZOFFSETFROM:+0200
TZOFFSETTO:+0100
TZNAME:CET
DTSTART:20281029T010000
END:STANDARD
BEGIN:DAYLIGHT
TZOFFSETFROM:+0100
TZOFFSETTO:+0200
TZNAME:CEST
DTSTART:20290325T010000
END:DAYLIGHT
BEGIN:STANDARD
TZOFFSETFROM:+0200
TZOFFSETTO:+0100
TZNAME:CET
DTSTART:20291028T010000
END:STANDARD
END:VTIMEZONE
BEGIN:VEVENT
DTSTART;TZID=Europe/Berlin:20280505T200000
DTEND;TZID=Europe/Berlin:20280505T220000
DTSTAMP:20260420T153018
CREATED:20250104T103132Z
LAST-MODIFIED:20250115T084303Z
UID:10005138-1841169600-1841176800@www.tsv-destedt.de
SUMMARY:Basketball Training
DESCRIPTION:Basketball
URL:https://www.tsv-destedt.de/event/basketball-training/2028-05-05/
LOCATION:Sporthalle Destedt\, Ohestraße 1\, Cremlingen\, Nieder#\, 38162\, Germany
CATEGORIES:Basketball
ATTACH;FMTTYPE=image/jpeg:https://www.tsv-destedt.de/wp-content/uploads/2025/01/basketball-7121617_640_1vVb.jpg
ORGANIZER;CN="TSV Destedt":MAILTO:info@tsv-destedt.de
END:VEVENT
BEGIN:VEVENT
DTSTART;TZID=Europe/Berlin:20280506T093000
DTEND;TZID=Europe/Berlin:20280506T123000
DTSTAMP:20260420T153018
CREATED:20250325T065208Z
LAST-MODIFIED:20250403T101957Z
UID:10005661-1841218200-1841229000@www.tsv-destedt.de
SUMMARY:Leichtathletik Kids
DESCRIPTION:Leichtathletik-Kids
URL:https://www.tsv-destedt.de/event/leichtathletik-kids-4/2028-05-06/
LOCATION:Sporthalle Destedt\, Ohestraße 1\, Cremlingen\, Nieder#\, 38162\, Germany
CATEGORIES:Leichtathletik
ATTACH;FMTTYPE=image/jpeg:https://www.tsv-destedt.de/wp-content/uploads/2024/10/DSC01850-scaled.jpg
END:VEVENT
BEGIN:VEVENT
DTSTART;TZID=Europe/Berlin:20280507T110000
DTEND;TZID=Europe/Berlin:20280507T130000
DTSTAMP:20260420T153018
CREATED:20250104T101116Z
LAST-MODIFIED:20251227T185219Z
UID:10001939-1841310000-1841317200@www.tsv-destedt.de
SUMMARY:Tischtennis
DESCRIPTION:
URL:https://www.tsv-destedt.de/event/tischtennis/2028-05-07/
LOCATION:Sporthalle Destedt\, Ohestraße 1\, Cremlingen\, Nieder#\, 38162\, Germany
CATEGORIES:Tischtennis
ATTACH;FMTTYPE=image/jpeg:https://www.tsv-destedt.de/wp-content/uploads/2024/11/sports-3097621_1920.jpg
END:VEVENT
BEGIN:VEVENT
DTSTART;TZID=Europe/Berlin:20280507T163000
DTEND;TZID=Europe/Berlin:20280507T190000
DTSTAMP:20260420T153018
CREATED:20251227T085658Z
LAST-MODIFIED:20251227T085700Z
UID:10001678-1841329800-1841338800@www.tsv-destedt.de
SUMMARY:Hobby Horsing
DESCRIPTION:Hobby Horsing
URL:https://www.tsv-destedt.de/event/hobby-horsing-2-8/2028-05-07/
LOCATION:Sporthalle Destedt\, Ohestraße 1\, Cremlingen\, Nieder#\, 38162\, Germany
CATEGORIES:Hobby Horsing
ATTACH;FMTTYPE=image/jpeg:https://www.tsv-destedt.de/wp-content/uploads/2024/08/c6c0aacd-832f-4783-b7c5-cfce7e9f8735.jpeg
ORGANIZER;CN="RuF Cremlingen und TSV Destedt":MAILTO:hobby-horsing@tsv-destedt.de
END:VEVENT
BEGIN:VEVENT
DTSTART;TZID=Europe/Berlin:20280508T160000
DTEND;TZID=Europe/Berlin:20280508T165500
DTSTAMP:20260420T153018
CREATED:20250104T101719Z
LAST-MODIFIED:20250518T095134Z
UID:10007064-1841414400-1841417700@www.tsv-destedt.de
SUMMARY:Eltern-/ Kindturnen
DESCRIPTION:Kinderturnen
URL:https://www.tsv-destedt.de/event/kinderturnen/2028-05-08/
LOCATION:Sporthalle Destedt\, Ohestraße 1\, Cremlingen\, Nieder#\, 38162\, Germany
CATEGORIES:Kinderturnen
ATTACH;FMTTYPE=image/jpeg:https://www.tsv-destedt.de/wp-content/uploads/2024/11/PHOTO-2024-10-29-13-07-42-1-e1731167738809.jpg
ORGANIZER;CN="TSV Destedt":MAILTO:info@tsv-destedt.de
END:VEVENT
BEGIN:VEVENT
DTSTART;TZID=Europe/Berlin:20280508T181500
DTEND;TZID=Europe/Berlin:20280508T200000
DTSTAMP:20260420T153018
CREATED:20251212T074801Z
LAST-MODIFIED:20251212T074946Z
UID:10009328-1841422500-1841428800@www.tsv-destedt.de
SUMMARY:Volleyball Jugend Training
DESCRIPTION:
URL:https://www.tsv-destedt.de/event/volleyball-jugend-training-2/2028-05-08/
LOCATION:Sporthalle Destedt\, Ohestraße 1\, Cremlingen\, Nieder#\, 38162\, Germany
CATEGORIES:Volleyball
ATTACH;FMTTYPE=image/jpeg:https://www.tsv-destedt.de/wp-content/uploads/2025/01/ball-1930192_640_8aiz.jpg
ORGANIZER;CN="TSV Destedt":MAILTO:info@tsv-destedt.de
END:VEVENT
BEGIN:VEVENT
DTSTART;TZID=Europe/Berlin:20280508T190000
DTEND;TZID=Europe/Berlin:20280508T201500
DTSTAMP:20260420T153018
CREATED:20251108T164305Z
LAST-MODIFIED:20251108T164305Z
UID:10009064-1841425200-1841429700@www.tsv-destedt.de
SUMMARY:Fußball: Alte Herren (Ü40) Training
DESCRIPTION:
URL:https://www.tsv-destedt.de/event/fussball-alte-herren-ue40-training/2028-05-08/
LOCATION:Sportplatz TSV Destedt\, Ohestraße 1\, Cremlingen\, Niedersachsen\, 38162\, Germany
CATEGORIES:Fußball
ATTACH;FMTTYPE=image/jpeg:https://www.tsv-destedt.de/wp-content/uploads/2025/01/soccer-933037_640_rKSk.jpg
ORGANIZER;CN="TSV Destedt":MAILTO:info@tsv-destedt.de
END:VEVENT
BEGIN:VEVENT
DTSTART;TZID=Europe/Berlin:20280508T200000
DTEND;TZID=Europe/Berlin:20280508T213000
DTSTAMP:20260420T153018
CREATED:20250104T102036Z
LAST-MODIFIED:20250104T105140Z
UID:10002788-1841428800-1841434200@www.tsv-destedt.de
SUMMARY:Volleyball Damen Training
DESCRIPTION:
URL:https://www.tsv-destedt.de/event/volleyball-damen-training/2028-05-08/
LOCATION:Sporthalle Destedt\, Ohestraße 1\, Cremlingen\, Nieder#\, 38162\, Germany
CATEGORIES:Volleyball
ATTACH;FMTTYPE=image/jpeg:https://www.tsv-destedt.de/wp-content/uploads/2025/01/ball-1930192_640_8aiz.jpg
ORGANIZER;CN="TSV Destedt":MAILTO:info@tsv-destedt.de
END:VEVENT
BEGIN:VEVENT
DTSTART;TZID=Europe/Berlin:20280509T183000
DTEND;TZID=Europe/Berlin:20280509T200000
DTSTAMP:20260420T153018
CREATED:20250104T112429Z
LAST-MODIFIED:20250107T143518Z
UID:10006771-1841509800-1841515200@www.tsv-destedt.de
SUMMARY:Volleyball Mixed Training
DESCRIPTION:
URL:https://www.tsv-destedt.de/event/volleyball-mixed-training/2028-05-09/
LOCATION:Sporthalle Destedt\, Ohestraße 1\, Cremlingen\, Nieder#\, 38162\, Germany
CATEGORIES:Volleyball
ATTACH;FMTTYPE=image/jpeg:https://www.tsv-destedt.de/wp-content/uploads/2025/01/ball-1930192_640_8aiz.jpg
ORGANIZER;CN="TSV Destedt":MAILTO:info@tsv-destedt.de
END:VEVENT
BEGIN:VEVENT
DTSTART;TZID=Europe/Berlin:20280509T183000
DTEND;TZID=Europe/Berlin:20280509T203000
DTSTAMP:20260420T153018
CREATED:20250104T102238Z
LAST-MODIFIED:20250104T105051Z
UID:10003484-1841509800-1841517000@www.tsv-destedt.de
SUMMARY:Fußball: Training 1. Herren
DESCRIPTION:
URL:https://www.tsv-destedt.de/event/fussball-training-1-herren/2028-05-09/
LOCATION:Sportplatz TSV Destedt\, Ohestraße 1\, Cremlingen\, Niedersachsen\, 38162\, Germany
CATEGORIES:Fußball
ATTACH;FMTTYPE=image/jpeg:https://www.tsv-destedt.de/wp-content/uploads/2025/01/soccer-933037_640_rKSk.jpg
ORGANIZER;CN="TSV Destedt":MAILTO:info@tsv-destedt.de
END:VEVENT
BEGIN:VEVENT
DTSTART;TZID=Europe/Berlin:20280509T190000
DTEND;TZID=Europe/Berlin:20280509T201500
DTSTAMP:20260420T153018
CREATED:20250104T102325Z
LAST-MODIFIED:20250104T105023Z
UID:10003832-1841511600-1841516100@www.tsv-destedt.de
SUMMARY:Fußball: Alte Herren (Ü32) Training
DESCRIPTION:
URL:https://www.tsv-destedt.de/event/fussball-alte-herren-ue32-training/2028-05-09/
LOCATION:Sportplatz TSV Destedt\, Ohestraße 1\, Cremlingen\, Niedersachsen\, 38162\, Germany
CATEGORIES:Fußball
ATTACH;FMTTYPE=image/jpeg:https://www.tsv-destedt.de/wp-content/uploads/2025/01/soccer-933037_640_rKSk.jpg
ORGANIZER;CN="TSV Destedt":MAILTO:info@tsv-destedt.de
END:VEVENT
BEGIN:VEVENT
DTSTART;TZID=Europe/Berlin:20280509T203000
DTEND;TZID=Europe/Berlin:20280509T220000
DTSTAMP:20260420T153018
CREATED:20250104T102136Z
LAST-MODIFIED:20250115T085251Z
UID:10003049-1841517000-1841522400@www.tsv-destedt.de
SUMMARY:Ball über die Schnur
DESCRIPTION:Ball über die Schnur
URL:https://www.tsv-destedt.de/event/ball-ueber-die-schnur/2028-05-09/
LOCATION:Sporthalle Destedt\, Ohestraße 1\, Cremlingen\, Nieder#\, 38162\, Germany
CATEGORIES:Ball über die Schnur
ORGANIZER;CN="TSV Destedt":MAILTO:info@tsv-destedt.de
END:VEVENT
BEGIN:VEVENT
DTSTART;TZID=Europe/Berlin:20280510T190000
DTEND;TZID=Europe/Berlin:20280510T200000
DTSTAMP:20260420T153018
CREATED:20250104T102424Z
LAST-MODIFIED:20250404T111348Z
UID:10007777-1841598000-1841601600@www.tsv-destedt.de
SUMMARY:Bodyfit Training
DESCRIPTION:Bodyfit
URL:https://www.tsv-destedt.de/event/bodyfit-training/2028-05-10/
LOCATION:Sporthalle Destedt\, Ohestraße 1\, Cremlingen\, Nieder#\, 38162\, Germany
CATEGORIES:Bodyfit
ATTACH;FMTTYPE=image/jpeg:https://www.tsv-destedt.de/wp-content/uploads/2025/01/dumbbells-2465478_640_ZRpa.jpg
ORGANIZER;CN="TSV Destedt":MAILTO:info@tsv-destedt.de
END:VEVENT
BEGIN:VEVENT
DTSTART;TZID=Europe/Berlin:20280511T153000
DTEND;TZID=Europe/Berlin:20280511T170000
DTSTAMP:20260420T153018
CREATED:20250104T102534Z
LAST-MODIFIED:20250206T082535Z
UID:10004354-1841671800-1841677200@www.tsv-destedt.de
SUMMARY:Leichtathletik Kids
DESCRIPTION:Leichtathletik-Kids
URL:https://www.tsv-destedt.de/event/leichtathletik-kids-2/2028-05-11/
LOCATION:Sporthalle Destedt\, Ohestraße 1\, Cremlingen\, Nieder#\, 38162\, Germany
CATEGORIES:Leichtathletik
ATTACH;FMTTYPE=image/jpeg:https://www.tsv-destedt.de/wp-content/uploads/2024/10/DSC01850-scaled.jpg
ORGANIZER;CN="TSV Destedt":MAILTO:info@tsv-destedt.de
END:VEVENT
BEGIN:VEVENT
DTSTART;TZID=Europe/Berlin:20280511T163000
DTEND;TZID=Europe/Berlin:20280511T181500
DTSTAMP:20260420T153018
CREATED:20250104T102658Z
LAST-MODIFIED:20250115T085520Z
UID:10006447-1841675400-1841681700@www.tsv-destedt.de
SUMMARY:Dancekids Training
DESCRIPTION:Dance Kids
URL:https://www.tsv-destedt.de/event/dancekids-training/2028-05-11/
LOCATION:Sporthalle Destedt\, Ohestraße 1\, Cremlingen\, Nieder#\, 38162\, Germany
CATEGORIES:Dancekids
ATTACH;FMTTYPE=image/png:https://www.tsv-destedt.de/wp-content/uploads/2024/08/Bild_2024-08-17_114111444.png
ORGANIZER;CN="TSV Destedt":MAILTO:info@tsv-destedt.de
END:VEVENT
BEGIN:VEVENT
DTSTART;TZID=Europe/Berlin:20280511T183000
DTEND;TZID=Europe/Berlin:20280511T203000
DTSTAMP:20260420T153018
CREATED:20250104T102238Z
LAST-MODIFIED:20250104T105051Z
UID:10003485-1841682600-1841689800@www.tsv-destedt.de
SUMMARY:Fußball: Training 1. Herren
DESCRIPTION:
URL:https://www.tsv-destedt.de/event/fussball-training-1-herren/2028-05-11/
LOCATION:Sportplatz TSV Destedt\, Ohestraße 1\, Cremlingen\, Niedersachsen\, 38162\, Germany
CATEGORIES:Fußball
ATTACH;FMTTYPE=image/jpeg:https://www.tsv-destedt.de/wp-content/uploads/2025/01/soccer-933037_640_rKSk.jpg
ORGANIZER;CN="TSV Destedt":MAILTO:info@tsv-destedt.de
END:VEVENT
BEGIN:VEVENT
DTSTART;TZID=Europe/Berlin:20280511T190000
DTEND;TZID=Europe/Berlin:20280511T210000
DTSTAMP:20260420T153018
CREATED:20250412T070116Z
LAST-MODIFIED:20250412T070117Z
UID:10008081-1841684400-1841691600@www.tsv-destedt.de
SUMMARY:Tanzgarde Training
DESCRIPTION:
URL:https://www.tsv-destedt.de/event/tanzgarde-training-2/2028-05-11/
LOCATION:Sporthalle Destedt\, Ohestraße 1\, Cremlingen\, Nieder#\, 38162\, Germany
CATEGORIES:Tanzgarde
ATTACH;FMTTYPE=image/jpeg:https://www.tsv-destedt.de/wp-content/uploads/2025/01/Lippelt.jpeg
ORGANIZER;CN="TSV Destedt":MAILTO:info@tsv-destedt.de
END:VEVENT
BEGIN:VEVENT
DTSTART;TZID=Europe/Berlin:20280512T163000
DTEND;TZID=Europe/Berlin:20280512T183000
DTSTAMP:20260420T153018
CREATED:20250425T060909Z
LAST-MODIFIED:20251010T132207Z
UID:10004877-1841761800-1841769000@www.tsv-destedt.de
SUMMARY:Fußball Jugend Training
DESCRIPTION:
URL:https://www.tsv-destedt.de/event/fussball-jugend-training-3/2028-05-12/
LOCATION:Sportplatz TSV Destedt\, Ohestraße 1\, Cremlingen\, Niedersachsen\, 38162\, Germany
CATEGORIES:Fußball
ATTACH;FMTTYPE=image/jpeg:https://www.tsv-destedt.de/wp-content/uploads/2025/01/soccer-933037_640_rKSk.jpg
ORGANIZER;CN="TSV Destedt":MAILTO:info@tsv-destedt.de
END:VEVENT
BEGIN:VEVENT
DTSTART;TZID=Europe/Berlin:20280512T200000
DTEND;TZID=Europe/Berlin:20280512T220000
DTSTAMP:20260420T153018
CREATED:20250104T103132Z
LAST-MODIFIED:20250115T084303Z
UID:10005139-1841774400-1841781600@www.tsv-destedt.de
SUMMARY:Basketball Training
DESCRIPTION:Basketball
URL:https://www.tsv-destedt.de/event/basketball-training/2028-05-12/
LOCATION:Sporthalle Destedt\, Ohestraße 1\, Cremlingen\, Nieder#\, 38162\, Germany
CATEGORIES:Basketball
ATTACH;FMTTYPE=image/jpeg:https://www.tsv-destedt.de/wp-content/uploads/2025/01/basketball-7121617_640_1vVb.jpg
ORGANIZER;CN="TSV Destedt":MAILTO:info@tsv-destedt.de
END:VEVENT
BEGIN:VEVENT
DTSTART;TZID=Europe/Berlin:20280513T093000
DTEND;TZID=Europe/Berlin:20280513T123000
DTSTAMP:20260420T153018
CREATED:20250325T065208Z
LAST-MODIFIED:20250403T101957Z
UID:10005662-1841823000-1841833800@www.tsv-destedt.de
SUMMARY:Leichtathletik Kids
DESCRIPTION:Leichtathletik-Kids
URL:https://www.tsv-destedt.de/event/leichtathletik-kids-4/2028-05-13/
LOCATION:Sporthalle Destedt\, Ohestraße 1\, Cremlingen\, Nieder#\, 38162\, Germany
CATEGORIES:Leichtathletik
ATTACH;FMTTYPE=image/jpeg:https://www.tsv-destedt.de/wp-content/uploads/2024/10/DSC01850-scaled.jpg
END:VEVENT
BEGIN:VEVENT
DTSTART;TZID=Europe/Berlin:20280514T110000
DTEND;TZID=Europe/Berlin:20280514T130000
DTSTAMP:20260420T153018
CREATED:20250104T101116Z
LAST-MODIFIED:20251227T185219Z
UID:10001940-1841914800-1841922000@www.tsv-destedt.de
SUMMARY:Tischtennis
DESCRIPTION:
URL:https://www.tsv-destedt.de/event/tischtennis/2028-05-14/
LOCATION:Sporthalle Destedt\, Ohestraße 1\, Cremlingen\, Nieder#\, 38162\, Germany
CATEGORIES:Tischtennis
ATTACH;FMTTYPE=image/jpeg:https://www.tsv-destedt.de/wp-content/uploads/2024/11/sports-3097621_1920.jpg
END:VEVENT
BEGIN:VEVENT
DTSTART;TZID=Europe/Berlin:20280514T163000
DTEND;TZID=Europe/Berlin:20280514T190000
DTSTAMP:20260420T153018
CREATED:20251227T085658Z
LAST-MODIFIED:20251227T085700Z
UID:10001679-1841934600-1841943600@www.tsv-destedt.de
SUMMARY:Hobby Horsing
DESCRIPTION:Hobby Horsing
URL:https://www.tsv-destedt.de/event/hobby-horsing-2-8/2028-05-14/
LOCATION:Sporthalle Destedt\, Ohestraße 1\, Cremlingen\, Nieder#\, 38162\, Germany
CATEGORIES:Hobby Horsing
ATTACH;FMTTYPE=image/jpeg:https://www.tsv-destedt.de/wp-content/uploads/2024/08/c6c0aacd-832f-4783-b7c5-cfce7e9f8735.jpeg
ORGANIZER;CN="RuF Cremlingen und TSV Destedt":MAILTO:hobby-horsing@tsv-destedt.de
END:VEVENT
BEGIN:VEVENT
DTSTART;TZID=Europe/Berlin:20280515T160000
DTEND;TZID=Europe/Berlin:20280515T165500
DTSTAMP:20260420T153018
CREATED:20250104T101719Z
LAST-MODIFIED:20250518T095134Z
UID:10007065-1842019200-1842022500@www.tsv-destedt.de
SUMMARY:Eltern-/ Kindturnen
DESCRIPTION:Kinderturnen
URL:https://www.tsv-destedt.de/event/kinderturnen/2028-05-15/
LOCATION:Sporthalle Destedt\, Ohestraße 1\, Cremlingen\, Nieder#\, 38162\, Germany
CATEGORIES:Kinderturnen
ATTACH;FMTTYPE=image/jpeg:https://www.tsv-destedt.de/wp-content/uploads/2024/11/PHOTO-2024-10-29-13-07-42-1-e1731167738809.jpg
ORGANIZER;CN="TSV Destedt":MAILTO:info@tsv-destedt.de
END:VEVENT
BEGIN:VEVENT
DTSTART;TZID=Europe/Berlin:20280515T181500
DTEND;TZID=Europe/Berlin:20280515T200000
DTSTAMP:20260420T153018
CREATED:20251212T074801Z
LAST-MODIFIED:20251212T074946Z
UID:10009329-1842027300-1842033600@www.tsv-destedt.de
SUMMARY:Volleyball Jugend Training
DESCRIPTION:
URL:https://www.tsv-destedt.de/event/volleyball-jugend-training-2/2028-05-15/
LOCATION:Sporthalle Destedt\, Ohestraße 1\, Cremlingen\, Nieder#\, 38162\, Germany
CATEGORIES:Volleyball
ATTACH;FMTTYPE=image/jpeg:https://www.tsv-destedt.de/wp-content/uploads/2025/01/ball-1930192_640_8aiz.jpg
ORGANIZER;CN="TSV Destedt":MAILTO:info@tsv-destedt.de
END:VEVENT
BEGIN:VEVENT
DTSTART;TZID=Europe/Berlin:20280515T190000
DTEND;TZID=Europe/Berlin:20280515T201500
DTSTAMP:20260420T153018
CREATED:20251108T164305Z
LAST-MODIFIED:20251108T164305Z
UID:10009065-1842030000-1842034500@www.tsv-destedt.de
SUMMARY:Fußball: Alte Herren (Ü40) Training
DESCRIPTION:
URL:https://www.tsv-destedt.de/event/fussball-alte-herren-ue40-training/2028-05-15/
LOCATION:Sportplatz TSV Destedt\, Ohestraße 1\, Cremlingen\, Niedersachsen\, 38162\, Germany
CATEGORIES:Fußball
ATTACH;FMTTYPE=image/jpeg:https://www.tsv-destedt.de/wp-content/uploads/2025/01/soccer-933037_640_rKSk.jpg
ORGANIZER;CN="TSV Destedt":MAILTO:info@tsv-destedt.de
END:VEVENT
BEGIN:VEVENT
DTSTART;TZID=Europe/Berlin:20280515T200000
DTEND;TZID=Europe/Berlin:20280515T213000
DTSTAMP:20260420T153018
CREATED:20250104T102036Z
LAST-MODIFIED:20250104T105140Z
UID:10002789-1842033600-1842039000@www.tsv-destedt.de
SUMMARY:Volleyball Damen Training
DESCRIPTION:
URL:https://www.tsv-destedt.de/event/volleyball-damen-training/2028-05-15/
LOCATION:Sporthalle Destedt\, Ohestraße 1\, Cremlingen\, Nieder#\, 38162\, Germany
CATEGORIES:Volleyball
ATTACH;FMTTYPE=image/jpeg:https://www.tsv-destedt.de/wp-content/uploads/2025/01/ball-1930192_640_8aiz.jpg
ORGANIZER;CN="TSV Destedt":MAILTO:info@tsv-destedt.de
END:VEVENT
BEGIN:VEVENT
DTSTART;TZID=Europe/Berlin:20280516T183000
DTEND;TZID=Europe/Berlin:20280516T200000
DTSTAMP:20260420T153018
CREATED:20250104T112429Z
LAST-MODIFIED:20250107T143518Z
UID:10006772-1842114600-1842120000@www.tsv-destedt.de
SUMMARY:Volleyball Mixed Training
DESCRIPTION:
URL:https://www.tsv-destedt.de/event/volleyball-mixed-training/2028-05-16/
LOCATION:Sporthalle Destedt\, Ohestraße 1\, Cremlingen\, Nieder#\, 38162\, Germany
CATEGORIES:Volleyball
ATTACH;FMTTYPE=image/jpeg:https://www.tsv-destedt.de/wp-content/uploads/2025/01/ball-1930192_640_8aiz.jpg
ORGANIZER;CN="TSV Destedt":MAILTO:info@tsv-destedt.de
END:VEVENT
BEGIN:VEVENT
DTSTART;TZID=Europe/Berlin:20280516T183000
DTEND;TZID=Europe/Berlin:20280516T203000
DTSTAMP:20260420T153018
CREATED:20250104T102238Z
LAST-MODIFIED:20250104T105051Z
UID:10003486-1842114600-1842121800@www.tsv-destedt.de
SUMMARY:Fußball: Training 1. Herren
DESCRIPTION:
URL:https://www.tsv-destedt.de/event/fussball-training-1-herren/2028-05-16/
LOCATION:Sportplatz TSV Destedt\, Ohestraße 1\, Cremlingen\, Niedersachsen\, 38162\, Germany
CATEGORIES:Fußball
ATTACH;FMTTYPE=image/jpeg:https://www.tsv-destedt.de/wp-content/uploads/2025/01/soccer-933037_640_rKSk.jpg
ORGANIZER;CN="TSV Destedt":MAILTO:info@tsv-destedt.de
END:VEVENT
BEGIN:VEVENT
DTSTART;TZID=Europe/Berlin:20280516T190000
DTEND;TZID=Europe/Berlin:20280516T201500
DTSTAMP:20260420T153018
CREATED:20250104T102325Z
LAST-MODIFIED:20250104T105023Z
UID:10003833-1842116400-1842120900@www.tsv-destedt.de
SUMMARY:Fußball: Alte Herren (Ü32) Training
DESCRIPTION:
URL:https://www.tsv-destedt.de/event/fussball-alte-herren-ue32-training/2028-05-16/
LOCATION:Sportplatz TSV Destedt\, Ohestraße 1\, Cremlingen\, Niedersachsen\, 38162\, Germany
CATEGORIES:Fußball
ATTACH;FMTTYPE=image/jpeg:https://www.tsv-destedt.de/wp-content/uploads/2025/01/soccer-933037_640_rKSk.jpg
ORGANIZER;CN="TSV Destedt":MAILTO:info@tsv-destedt.de
END:VEVENT
BEGIN:VEVENT
DTSTART;TZID=Europe/Berlin:20280516T203000
DTEND;TZID=Europe/Berlin:20280516T220000
DTSTAMP:20260420T153018
CREATED:20250104T102136Z
LAST-MODIFIED:20250115T085251Z
UID:10003050-1842121800-1842127200@www.tsv-destedt.de
SUMMARY:Ball über die Schnur
DESCRIPTION:Ball über die Schnur
URL:https://www.tsv-destedt.de/event/ball-ueber-die-schnur/2028-05-16/
LOCATION:Sporthalle Destedt\, Ohestraße 1\, Cremlingen\, Nieder#\, 38162\, Germany
CATEGORIES:Ball über die Schnur
ORGANIZER;CN="TSV Destedt":MAILTO:info@tsv-destedt.de
END:VEVENT
END:VCALENDAR